BEGIN:VCALENDAR
VERSION:2.0
PRODID:-//South Seattle Saddle Club - ECPv6.15.20//NONSGML v1.0//EN
CALSCALE:GREGORIAN
METHOD:PUBLISH
X-WR-CALNAME:South Seattle Saddle Club
X-ORIGINAL-URL:https://southseattlesaddleclub.com
X-WR-CALDESC:Events for South Seattle Saddle Club
REFRESH-INTERVAL;VALUE=DURATION:PT1H
X-Robots-Tag:noindex
X-PUBLISHED-TTL:PT1H
BEGIN:VTIMEZONE
TZID:America/Los_Angeles
BEGIN:DAYLIGHT
TZOFFSETFROM:-0800
TZOFFSETTO:-0700
TZNAME:PDT
DTSTART:20230312T100000
END:DAYLIGHT
BEGIN:STANDARD
TZOFFSETFROM:-0700
TZOFFSETTO:-0800
TZNAME:PST
DTSTART:20231105T090000
END:STANDARD
BEGIN:DAYLIGHT
TZOFFSETFROM:-0800
TZOFFSETTO:-0700
TZNAME:PDT
DTSTART:20240310T100000
END:DAYLIGHT
BEGIN:STANDARD
TZOFFSETFROM:-0700
TZOFFSETTO:-0800
TZNAME:PST
DTSTART:20241103T090000
END:STANDARD
BEGIN:DAYLIGHT
TZOFFSETFROM:-0800
TZOFFSETTO:-0700
TZNAME:PDT
DTSTART:20250309T100000
END:DAYLIGHT
BEGIN:STANDARD
TZOFFSETFROM:-0700
TZOFFSETTO:-0800
TZNAME:PST
DTSTART:20251102T090000
END:STANDARD
END:VTIMEZONE
BEGIN:VEVENT
DTSTART;TZID=America/Los_Angeles:20240608T073000
DTEND;TZID=America/Los_Angeles:20240608T120000
DTSTAMP:20260424T152846
CREATED:20240529T015319Z
LAST-MODIFIED:20240531T000719Z
UID:1149-1717831800-1717848000@southseattlesaddleclub.com
SUMMARY:Maple Valley Days Parade
DESCRIPTION:Join South Seattle Saddle Club Saturday\, June 8 on our float or on your parade safe horse! \nIf you’re interested in joining the fun\, please respond to parade post on SSSC private Facebook page
URL:https://southseattlesaddleclub.com/event/maple-valley-days-parade/
LOCATION:South Seattle Saddle Club\, 22740 S.E. 228th St.\, Maple Valley\, WA\, 98038\, United States
CATEGORIES:Social Events
ATTACH;FMTTYPE=image/jpeg:https://southseattlesaddleclub.com/wp-content/uploads/2024/05/fno_event_51723_image_w480_h271.jpg
ORGANIZER;CN="Crystal Polzin":MAILTO:cpolzin79@hotmail.com
END:VEVENT
BEGIN:VEVENT
DTSTART;VALUE=DATE:20240609
DTEND;VALUE=DATE:20240610
DTSTAMP:20260424T152846
CREATED:20240111T054617Z
LAST-MODIFIED:20240520T204832Z
UID:846-1717891200-1717977599@southseattlesaddleclub.com
SUMMARY:2024 Play Date Series
DESCRIPTION:Events: Fig 8\, Speed Barrels\, Poles\, Cal Stake\, Barrels \nBuckeroo/Leadline: $25 | Members: $35 | Non-members: $45 | Member Family (3+): $80 \nDaily Highpoint Awards! Toy chest and ribbons for Buckeroo/Leadline! \n**Helmets required 18 years old and under** \n**18 years old or under – No stallions** \nGates open at 8am
URL:https://southseattlesaddleclub.com/event/2024-play-date-series-2/
LOCATION:South Seattle Saddle Club\, 22740 S.E. 228th St.\, Maple Valley\, WA\, 98038\, United States
CATEGORIES:Play Days
ATTACH;FMTTYPE=image/png:https://southseattlesaddleclub.com/wp-content/uploads/2024/01/Screen-Shot-2024-01-10-at-1.40.35-PM.png
ORGANIZER;CN="Lyndsey San Sebastian":MAILTO:lyndsey@horseandcoal.com
END:VEVENT
BEGIN:VEVENT
DTSTART;VALUE=DATE:20240615
DTEND;VALUE=DATE:20240617
DTSTAMP:20260424T152846
CREATED:20240418T194910Z
LAST-MODIFIED:20240423T173730Z
UID:1077-1718409600-1718582399@southseattlesaddleclub.com
SUMMARY:ETS Obstacles/Trail work party **Members Requested**
DESCRIPTION:Join us as we start our build on the new obstacle course at South Seattle Saddle Club! We’re hosting a weekend building party and welcome any help you can give. We’re building bridges\, tire obstacles\, and much more so the more hands\, the faster we can play! We’d love to see our club show up for this since this is a new amenity that we will all enjoy for years to come!
URL:https://southseattlesaddleclub.com/event/ets-obstacles-trail-work-party-members-requested/
LOCATION:South Seattle Saddle Club\, 22740 S.E. 228th St.\, Maple Valley\, WA\, 98038\, United States
CATEGORIES:Member Work Party
ATTACH;FMTTYPE=image/png:https://southseattlesaddleclub.com/wp-content/uploads/2024/04/Screen-Shot-2024-04-23-at-10.37.02-AM.png
ORGANIZER;CN="Vickie Sheehan Zettle":MAILTO:vickiesheehan@msn.com
END:VEVENT
BEGIN:VEVENT
DTSTART;TZID=America/Los_Angeles:20240617T180000
DTEND;TZID=America/Los_Angeles:20240617T200000
DTSTAMP:20260424T152846
CREATED:20240415T200723Z
LAST-MODIFIED:20240415T200920Z
UID:1040-1718647200-1718654400@southseattlesaddleclub.com
SUMMARY:Board and Club Meeting
DESCRIPTION:Board/General meetings are held in the South Seattle Saddle Club clubhouse\, the 3rd Monday of each month unless otherwise directed. \nBoard Meeting 6pm | Youth Meeting: 6pm | General Meeting 7pm
URL:https://southseattlesaddleclub.com/event/board-and-club-meeting/
LOCATION:South Seattle Saddle Club\, 22740 S.E. 228th St.\, Maple Valley\, WA\, 98038\, United States
CATEGORIES:Club Meetings
ATTACH;FMTTYPE=image/jpeg:https://southseattlesaddleclub.com/wp-content/uploads/2024/04/club-meeting.jpg
ORGANIZER;CN="Rich Valdez":MAILTO:southseattlesaddleclub@gmail.com
END:VEVENT
BEGIN:VEVENT
DTSTART;TZID=America/Los_Angeles:20240622T080000
DTEND;TZID=America/Los_Angeles:20240622T170000
DTSTAMP:20260424T152846
CREATED:20240127T085843Z
LAST-MODIFIED:20240320T201631Z
UID:920-1719043200-1719075600@southseattlesaddleclub.com
SUMMARY:PSHA - SSSC Saturday Show
DESCRIPTION:Join us for South Seattle Saddle Club’s PSHA June 23-23 weekend show! This is a 2 day event\, so please come and enjoy the grounds and bring your campers. Cook shack will be open for breakfast and lunch. \nGates:\n12pm Friday\n8am Saturday\n8am Sunday \nFees:\n$3.50 per ride\n$6.00 jackpot with 50% payback\nBuckaroos $2.25 per ride \nArena fee $5 per horse.\n*At this time\, we are cash\, check\, or Zelle only. \nPSHA Members:\nBe sure you’ve registered yourself and your horse prior to event. Both numbers are to be provided to judges before each event. \nNot sure if you’ve registered yet?\nVisit the official PSHA website to look up rider and horse numbers\, or to register. \nPro Tip! Write both numbers on your arm! This is especially useful for buckeroos. \nNon-Members:\nNot planning to register with PSHA and just want to ride for fun? No problem. Just sign up at the office as an X-Rider on the day of the event. You will receive a day number to ride the events. Your times will not count towards PSHA finals. \nRace Order\nKeyrace\, Keyhole\, Poles\, Team poles\, Flags\, Team flags\, 2 man 3 barrel\, Team baton\, Bareback relay\, Figure 8\, Cal stake\, 2 man stake\, Barrels\, Rescue race\, Cowhide
URL:https://southseattlesaddleclub.com/event/psha-sssc-show-2/
LOCATION:South Seattle Saddle Club\, 22740 S.E. 228th St.\, Maple Valley\, WA\, 98038\, United States
CATEGORIES:PSHA Events
ATTACH;FMTTYPE=image/jpeg:https://southseattlesaddleclub.com/wp-content/uploads/2024/01/psha.jpg
ORGANIZER;CN="Sarah Sutcliffe":MAILTO:sarahrsutcliffe@gmail.com
END:VEVENT
BEGIN:VEVENT
DTSTART;TZID=America/Los_Angeles:20240623T080000
DTEND;TZID=America/Los_Angeles:20240623T170000
DTSTAMP:20260424T152846
CREATED:20240127T090446Z
LAST-MODIFIED:20240320T201802Z
UID:922-1719129600-1719162000@southseattlesaddleclub.com
SUMMARY:PSHA - SSSC Sunday Show
DESCRIPTION:Join us for South Seattle Saddle Club’s PSHA June 23-23 weekend show! This is a 2 day event\, so please come and enjoy the grounds and bring your campers. Cook shack will be open for breakfast and lunch. \nGates:\n12pm Friday\n8am Saturday\n8am Sunday \nFees:\n$3.50 per ride\n$6.00 jackpot with 50% payback\nBuckaroos $2.25 per ride \nArena fee $5 per horse.\n*At this time\, we are cash\, check\, or Zelle only. \nPSHA Members:\nBe sure you’ve registered yourself and your horse prior to event. Both numbers are to be provided to judges before each event. \nNot sure if you’ve registered yet?\nVisit the official PSHA website to look up rider and horse numbers\, or to register. \nPro Tip! Write both numbers on your arm! This is especially useful for buckeroos. \nNon-Members:\nNot planning to register with PSHA and just want to ride for fun? No problem. Just sign up at the office as an X-Rider on the day of the event. You will receive a day number to ride the events. Your times will not count towards PSHA finals. \nRace Order\nKeyrace\, Keyhole\, Poles\, Team poles\, Flags\, Team flags\, 2 man 3 barrel\, Team baton\, Bareback relay\, Figure 8\, Cal stake\, 2 man stake\, Barrels\, Rescue race\, Cowhide
URL:https://southseattlesaddleclub.com/event/psha-sssc-sunday-show/
LOCATION:South Seattle Saddle Club\, 22740 S.E. 228th St.\, Maple Valley\, WA\, 98038\, United States
CATEGORIES:PSHA Events
ATTACH;FMTTYPE=image/jpeg:https://southseattlesaddleclub.com/wp-content/uploads/2024/01/psha.jpg
ORGANIZER;CN="Sarah Sutcliffe":MAILTO:sarahrsutcliffe@gmail.com
END:VEVENT
BEGIN:VEVENT
DTSTART;VALUE=DATE:20240629
DTEND;VALUE=DATE:20240701
DTSTAMP:20260424T152846
CREATED:20240313T054050Z
LAST-MODIFIED:20240320T053915Z
UID:963-1719619200-1719791999@southseattlesaddleclub.com
SUMMARY:Horseshoe Tournament
DESCRIPTION:Stay tuned for more info…
URL:https://southseattlesaddleclub.com/event/horseshoe-tournament-2/
LOCATION:South Seattle Saddle Club\, 22740 S.E. 228th St.\, Maple Valley\, WA\, 98038\, United States
CATEGORIES:Horseshoe Events
ATTACH;FMTTYPE=image/jpeg:https://southseattlesaddleclub.com/wp-content/uploads/2022/05/1948233_1435617023350877_1826516631_n.jpg
ORGANIZER;CN="Randal Harris":MAILTO:randal.harris@icloud.com
END:VEVENT
BEGIN:VEVENT
DTSTART;TZID=America/Los_Angeles:20240629T070000
DTEND;TZID=America/Los_Angeles:20240630T180000
DTSTAMP:20260424T152846
CREATED:20240320T203259Z
LAST-MODIFIED:20240320T203506Z
UID:979-1719644400-1719770400@southseattlesaddleclub.com
SUMMARY:Equine Trail Sports
DESCRIPTION:Come join us for obstacle trail challenges at SSSC! Trinity Trail Events is hosting 3 event weekends at the club and a buckle series tournament with four buckles – one of which will be for SSSC Members only!  \nThese events are through Equine Trail Sports and annual membership is $40 for adults and FREE for youth 22 and under! Your points from ETS rids accumulate towards their lifetime awards programs and eligible tournaments. \nIf you have any questions or want to learn more about the events\, please contact Vickie Sheehan Zettle at trinitytrailevents@gmail.com.
URL:https://southseattlesaddleclub.com/event/equine-trail-sports/
LOCATION:South Seattle Saddle Club\, 22740 S.E. 228th St.\, Maple Valley\, WA\, 98038\, United States
CATEGORIES:Other Equine Events
ATTACH;FMTTYPE=image/png:https://southseattlesaddleclub.com/wp-content/uploads/2024/03/Screenshot-2024-03-20-at-1.31.15 PM.png
ORGANIZER;CN="Vickie Sheehan Zettle":MAILTO:vickiesheehan@msn.com
END:VEVENT
END:VCALENDAR