BEGIN:VCALENDAR
VERSION:2.0
PRODID:-//South Seattle Saddle Club - ECPv6.15.20//NONSGML v1.0//EN
CALSCALE:GREGORIAN
METHOD:PUBLISH
X-ORIGINAL-URL:https://southseattlesaddleclub.com
X-WR-CALDESC:Events for South Seattle Saddle Club
REFRESH-INTERVAL;VALUE=DURATION:PT1H
X-Robots-Tag:noindex
X-PUBLISHED-TTL:PT1H
BEGIN:VTIMEZONE
TZID:UTC
BEGIN:STANDARD
TZOFFSETFROM:+0000
TZOFFSETTO:+0000
TZNAME:UTC
DTSTART:20220101T000000
END:STANDARD
END:VTIMEZONE
BEGIN:VEVENT
DTSTART;TZID=UTC:20230909T080000
DTEND;TZID=UTC:20230909T170000
DTSTAMP:20260425T040109
CREATED:20230202T035133Z
LAST-MODIFIED:20230202T035133Z
UID:714-1694246400-1694278800@southseattlesaddleclub.com
SUMMARY:SSSC Play Day Series
DESCRIPTION:More info coming soon…
URL:https://southseattlesaddleclub.com/event/sssc-play-day-series-4/
LOCATION:South Seattle Saddle Club\, 22740 S.E. 228th St.\, Maple Valley\, WA\, 98038\, United States
CATEGORIES:Play Days
ATTACH;FMTTYPE=image/gif:https://southseattlesaddleclub.com/wp-content/uploads/2023/02/sssc-playdates.gif
ORGANIZER;CN="Bonnie Valdez":MAILTO:blv9024@gmail.com
END:VEVENT
BEGIN:VEVENT
DTSTART;TZID=UTC:20230918T190000
DTEND;TZID=UTC:20230918T200000
DTSTAMP:20260425T040109
CREATED:20230125T072816Z
LAST-MODIFIED:20230712T070108Z
UID:689-1695063600-1695067200@southseattlesaddleclub.com
SUMMARY:Board/Club Meeting
DESCRIPTION:Board Meeting 6:30pm | Member Meeting 7:00 pm Board meetings happen on the 3rd Monday of every month at the South Seattle Saddle Club clubhouse\, unless specified otherwise.
URL:https://southseattlesaddleclub.com/event/board-club-meeting-6/
LOCATION:South Seattle Saddle Club\, 22740 S.E. 228th St.\, Maple Valley\, WA\, 98038\, United States
CATEGORIES:Club Meetings
ORGANIZER;CN="Lyndsey San Sebastian":MAILTO:lyndsey@horseandcoal.com
END:VEVENT
END:VCALENDAR