BEGIN:VCALENDAR
VERSION:2.0
PRODID:-//South Seattle Saddle Club - ECPv6.15.20//NONSGML v1.0//EN
CALSCALE:GREGORIAN
METHOD:PUBLISH
X-WR-CALNAME:South Seattle Saddle Club
X-ORIGINAL-URL:https://southseattlesaddleclub.com
X-WR-CALDESC:Events for South Seattle Saddle Club
REFRESH-INTERVAL;VALUE=DURATION:PT1H
X-Robots-Tag:noindex
X-PUBLISHED-TTL:PT1H
BEGIN:VTIMEZONE
TZID:UTC
BEGIN:STANDARD
TZOFFSETFROM:+0000
TZOFFSETTO:+0000
TZNAME:UTC
DTSTART:20220101T000000
END:STANDARD
END:VTIMEZONE
BEGIN:VEVENT
DTSTART;TZID=UTC:20230708T080000
DTEND;TZID=UTC:20230708T170000
DTSTAMP:20260425T071450
CREATED:20230202T040942Z
LAST-MODIFIED:20230531T014256Z
UID:723-1688803200-1688835600@southseattlesaddleclub.com
SUMMARY:SSSC - PSHA Show
DESCRIPTION:More info coming soon…
URL:https://southseattlesaddleclub.com/event/sssc-psha-show-3/
LOCATION:South Seattle Saddle Club\, 22740 S.E. 228th St.\, Maple Valley\, WA\, 98038\, United States
CATEGORIES:PSHA Events
ATTACH;FMTTYPE=image/jpeg:https://southseattlesaddleclub.com/wp-content/uploads/2022/06/playdate2.jpg
ORGANIZER;CN="Lyndsey San Sebastian":MAILTO:lyndsey@horseandcoal.com
END:VEVENT
BEGIN:VEVENT
DTSTART;TZID=UTC:20230709T080000
DTEND;TZID=UTC:20230709T170000
DTSTAMP:20260425T071450
CREATED:20230531T014211Z
LAST-MODIFIED:20230531T014211Z
UID:788-1688889600-1688922000@southseattlesaddleclub.com
SUMMARY:SSSC - PSHA Show
DESCRIPTION:Join us for South Seattle Saddle Club’s PSHA July 8-9\, weekend shows! This is a 2 day event\, so please come and enjoy the grounds and bring your campers. Cook shack will be open for breakfast and lunch. \n*At this time\, we are cash or check only. \n  \nKnow before you go!\nBe sure you’ve registered yourself and your horse prior to event. Both numbers are to be provided to judges before each event. \nNot sure if you’ve registered yet?\nVisit the official PSHA website to look up rider and horse numbers\, or to register. \nPro Tip! Write both numbers on your arm! This is especially useful for buckeroos. \n  \nEvents\nKeyrace\, Keyhole\, Pole bending\, team pole bending\, flags\, team flags\, 2 Man 3 Barrel\, Tea Baton\, Bareback Relay\, Fig 8\, Cal Stake\, Barrels\, Rescue Race\, Cowhide
URL:https://southseattlesaddleclub.com/event/sssc-psha-show-5/
LOCATION:South Seattle Saddle Club\, 22740 S.E. 228th St.\, Maple Valley\, WA\, 98038\, United States
CATEGORIES:PSHA Events
ATTACH;FMTTYPE=image/jpeg:https://southseattlesaddleclub.com/wp-content/uploads/2022/06/playdate2.jpg
ORGANIZER;CN="Jackie Little":MAILTO:littlesrc66@outlook.com
END:VEVENT
BEGIN:VEVENT
DTSTART;TZID=UTC:20230716T100000
DTEND;TZID=UTC:20230716T170000
DTSTAMP:20260425T071450
CREATED:20230202T034734Z
LAST-MODIFIED:20230425T062054Z
UID:710-1689501600-1689526800@southseattlesaddleclub.com
SUMMARY:SSSC Play Day Series
DESCRIPTION:Events: Barrels\, Poles\, Figure 8\, Big T\, Speed Barrels \nBuckeroo/Leadline: $25\, Members: $35\, Non-members: $45\, Member Family (2+): $65 \nDaily Highpoint Awards! Toy chest and ribbons for Buckeroo/Leadline! \n**Helmets required 18 years old and under**
URL:https://southseattlesaddleclub.com/event/sssc-play-day-series-2/
LOCATION:South Seattle Saddle Club\, 22740 S.E. 228th St.\, Maple Valley\, WA\, 98038\, United States
CATEGORIES:Play Days
ATTACH;FMTTYPE=image/gif:https://southseattlesaddleclub.com/wp-content/uploads/2023/02/sssc-playdates.gif
ORGANIZER;CN="Bonnie Valdez":MAILTO:blv9024@gmail.com
END:VEVENT
BEGIN:VEVENT
DTSTART;TZID=UTC:20230717T190000
DTEND;TZID=UTC:20230717T200000
DTSTAMP:20260425T071450
CREATED:20230125T072647Z
LAST-MODIFIED:20230712T065651Z
UID:685-1689620400-1689624000@southseattlesaddleclub.com
SUMMARY:Board/Club Meeting
DESCRIPTION:Board Meeting 6:30pm | Member Meeting 7:00 pm Board meetings happen on the 3rd Monday of every month at the South Seattle Saddle Club clubhouse\, unless specified otherwise.
URL:https://southseattlesaddleclub.com/event/club-board-meeting-2/
LOCATION:South Seattle Saddle Club\, 22740 S.E. 228th St.\, Maple Valley\, WA\, 98038\, United States
CATEGORIES:Club Meetings
ORGANIZER;CN="Lyndsey San Sebastian":MAILTO:lyndsey@horseandcoal.com
END:VEVENT
BEGIN:VEVENT
DTSTART;TZID=UTC:20230722T080000
DTEND;TZID=UTC:20230723T170000
DTSTAMP:20260425T071450
CREATED:20230202T041052Z
LAST-MODIFIED:20230202T041052Z
UID:725-1690012800-1690131600@southseattlesaddleclub.com
SUMMARY:SSSC - PSHA Show
DESCRIPTION:More info coming soon…
URL:https://southseattlesaddleclub.com/event/sssc-psha-show-4/
LOCATION:South Seattle Saddle Club\, 22740 S.E. 228th St.\, Maple Valley\, WA\, 98038\, United States
CATEGORIES:PSHA Events
ATTACH;FMTTYPE=image/jpeg:https://southseattlesaddleclub.com/wp-content/uploads/2023/02/psha-days.jpg
ORGANIZER;CN="Lyndsey San Sebastian":MAILTO:lyndsey@horseandcoal.com
END:VEVENT
END:VCALENDAR