BEGIN:VCALENDAR
VERSION:2.0
PRODID:-//South Seattle Saddle Club - ECPv6.15.20//NONSGML v1.0//EN
CALSCALE:GREGORIAN
METHOD:PUBLISH
X-WR-CALNAME:South Seattle Saddle Club
X-ORIGINAL-URL:https://southseattlesaddleclub.com
X-WR-CALDESC:Events for South Seattle Saddle Club
REFRESH-INTERVAL;VALUE=DURATION:PT1H
X-Robots-Tag:noindex
X-PUBLISHED-TTL:PT1H
BEGIN:VTIMEZONE
TZID:UTC
BEGIN:STANDARD
TZOFFSETFROM:+0000
TZOFFSETTO:+0000
TZNAME:UTC
DTSTART:20210101T000000
END:STANDARD
END:VTIMEZONE
BEGIN:VEVENT
DTSTART;TZID=UTC:20220730T090000
DTEND;TZID=UTC:20220731T170000
DTSTAMP:20260425T075209
CREATED:20220428T041549Z
LAST-MODIFIED:20220428T041549Z
UID:229-1659171600-1659286800@southseattlesaddleclub.com
SUMMARY:PSHA Event
DESCRIPTION:Start Time 9:00 am both days. 2 Open Times Only Classes $3.00 entry fee per run and one Jackpot Class\, Fee $6.00 per run with 50% payback.  Buckaroo fee $2.25 per run\, ribbons and High Point trophy for the weekend for Buckaroos.  Arena Fee $5.00 per horse\, Camping $5.00 per night.  No stalls\, must make your own pens or tie out. \nEvent Order:  Keyhole\, Figure 8\, Bareback Relay\, Team Baton\, Cal Stake\, Flags\, 2 Man 3 Barrel\, Team Flags\,  Rescue Race\, Barrels\, Keyrace\, Poles\, Team Poles\, 2 Man Stake\, Cowhide.  No Individual Flags event for Buckaroos\, all other individual events will have Buckaroo class. \nDownload Rider Entry Form (Return to office on day of event)
URL:https://southseattlesaddleclub.com/event/psha-july30-31/
LOCATION:South Seattle Saddle Club\, 22740 S.E. 228th St.\, Maple Valley\, WA\, 98038\, United States
CATEGORIES:PSHA Events
ATTACH;FMTTYPE=image/jpeg:https://southseattlesaddleclub.com/wp-content/uploads/2022/04/10525399_10152635737495407_5601730615925906456_o.jpg
ORGANIZER;CN="Jackie Little":MAILTO:littlesrc66@outlook.com
END:VEVENT
BEGIN:VEVENT
DTSTART;TZID=UTC:20220709T090000
DTEND;TZID=UTC:20220710T170000
DTSTAMP:20260425T075209
CREATED:20220428T041304Z
LAST-MODIFIED:20220428T041304Z
UID:227-1657357200-1657472400@southseattlesaddleclub.com
SUMMARY:PSHA Event
DESCRIPTION:Start Time 9:00 am both days. 2 Open Times Only Classes $3.00 entry fee per run and one Jackpot Class\, Fee $6.00 per run with 50% payback.  Buckaroo fee $2.25 per run\, ribbons and High Point trophy for the weekend for Buckaroos.  Arena Fee $5.00 per horse\, Camping $5.00 per night.  No stalls\, must make your own pens or tie out. \nEvent Order:  Keyhole\, Figure 8\, Bareback Relay\, Team Baton\, Cal Stake\, Flags\, 2 Man 3 Barrel\, Team Flags\,  Rescue Race\, Barrels\, Keyrace\, Poles\, Team Poles\, 2 Man Stake\, Cowhide.  No Individual Flags event for Buckaroos\, all other individual events will have Buckaroo class. \nDownload Rider Entry Form (Return to office on day of event)
URL:https://southseattlesaddleclub.com/event/psha-july9-10/
LOCATION:South Seattle Saddle Club\, 22740 S.E. 228th St.\, Maple Valley\, WA\, 98038\, United States
CATEGORIES:PSHA Events
ATTACH;FMTTYPE=image/jpeg:https://southseattlesaddleclub.com/wp-content/uploads/2022/04/10525399_10152635737495407_5601730615925906456_o.jpg
ORGANIZER;CN="Jackie Little":MAILTO:littlesrc66@outlook.com
END:VEVENT
BEGIN:VEVENT
DTSTART;TZID=UTC:20220625T090000
DTEND;TZID=UTC:20220626T170000
DTSTAMP:20260425T075209
CREATED:20220428T040503Z
LAST-MODIFIED:20220428T041404Z
UID:224-1656147600-1656262800@southseattlesaddleclub.com
SUMMARY:PSHA Event
DESCRIPTION:Start Time 9:00 am both days. 2 Open Times Only Classes $3.00 entry fee per run and one Jackpot Class\, Fee $6.00 per run with 50% payback.  Buckaroo fee $2.25 per run\, ribbons and High Point trophy for the weekend for Buckaroos.  Arena Fee $5.00 per horse\, Camping $5.00 per night.  No stalls\, must make your own pens or tie out. \nEvent Order:  Keyhole\, Figure 8\, Bareback Relay\, Team Baton\, Cal Stake\, Flags\, 2 Man 3 Barrel\, Team Flags\,  Rescue Race\, Barrels\, Keyrace\, Poles\, Team Poles\, 2 Man Stake\, Cowhide.  No Individual Flags event for Buckaroos\, all other individual events will have Buckaroo class. \nDownload Rider Entry Form (Return to office on day of event)
URL:https://southseattlesaddleclub.com/event/psha-june25-26/
LOCATION:South Seattle Saddle Club\, 22740 S.E. 228th St.\, Maple Valley\, WA\, 98038\, United States
CATEGORIES:PSHA Events
ATTACH;FMTTYPE=image/jpeg:https://southseattlesaddleclub.com/wp-content/uploads/2022/04/10525399_10152635737495407_5601730615925906456_o.jpg
ORGANIZER;CN="Jackie Little":MAILTO:littlesrc66@outlook.com
END:VEVENT
BEGIN:VEVENT
DTSTART;VALUE=DATE:20220616
DTEND;VALUE=DATE:20220620
DTSTAMP:20260425T075209
CREATED:20220428T042923Z
LAST-MODIFIED:20220428T042923Z
UID:231-1655337600-1655683199@southseattlesaddleclub.com
SUMMARY:SSSC Camp-Out
DESCRIPTION:We are so excited to bring back the historical South Seattle Saddle Club Members Camp-Out! Though we have decided not to include horses this year\, we do encourage our members to invite their friends and family. Enjoy games\, capture the flag\, bonfire\, drive-in movie and a potluck brunch for dad. We ask all that attend to please bring a side dish to include in the potluck. We can’t wait to get together and enjoy each other’s families. Finally!
URL:https://southseattlesaddleclub.com/event/club-campout/
LOCATION:South Seattle Saddle Club\, 22740 S.E. 228th St.\, Maple Valley\, WA\, 98038\, United States
CATEGORIES:Social Events
ATTACH;FMTTYPE=image/jpeg:https://southseattlesaddleclub.com/wp-content/uploads/2022/04/camp-out.jpg
ORGANIZER;CN="Bonnie Valdez":MAILTO:blv9024@gmail.com
END:VEVENT
BEGIN:VEVENT
DTSTART;TZID=UTC:20220611T090000
DTEND;TZID=UTC:20220612T170000
DTSTAMP:20260425T075209
CREATED:20220428T035755Z
LAST-MODIFIED:20220428T035927Z
UID:220-1654938000-1655053200@southseattlesaddleclub.com
SUMMARY:PSHA Event
DESCRIPTION:Start Time 9:00 am both days. 2 Open Times Only Classes $3.00 entry fee per run and one Jackpot Class\, Fee $6.00 per run with 50% payback.  Buckaroo fee $2.25 per run\, ribbons and High Point trophy for the weekend for Buckaroos.  Arena Fee $5.00 per horse\, Camping $5.00 per night.  No stalls\, must make your own pens or tie out. \nEvent Order:  Keyhole\, Figure 8\, Bareback Relay\, Team Baton\, Cal Stake\, Flags\, 2 Man 3 Barrel\, Team Flags\,  Rescue Race\, Barrels\, Keyrace\, Poles\, Team Poles\, 2 Man Stake\, Cowhide.  No Individual Flags event for Buckaroos\, all other individual events will have Buckaroo class.
URL:https://southseattlesaddleclub.com/event/psha-june11-12/
LOCATION:South Seattle Saddle Club\, 22740 S.E. 228th St.\, Maple Valley\, WA\, 98038\, United States
CATEGORIES:PSHA Events
ATTACH;FMTTYPE=image/jpeg:https://southseattlesaddleclub.com/wp-content/uploads/2022/04/10525399_10152635737495407_5601730615925906456_o.jpg
ORGANIZER;CN="Jackie Little":MAILTO:littlesrc66@outlook.com
END:VEVENT
BEGIN:VEVENT
DTSTART;TZID=UTC:20220524T190000
DTEND;TZID=UTC:20220524T220000
DTSTAMP:20260425T075209
CREATED:20220504T055114Z
LAST-MODIFIED:20220504T055114Z
UID:469-1653418800-1653429600@southseattlesaddleclub.com
SUMMARY:Washington Horseshoe Pitching Association - Pace League Season Opener
DESCRIPTION:The Pace League is kicking off their 2022 Season! Be sure to have your South Seattle Saddle Club Liability Release forms as well as dues paid before you play.
URL:https://southseattlesaddleclub.com/event/washington-horseshoe-pitching-association-pace-league-season-opener/
LOCATION:South Seattle Saddle Club\, 22740 S.E. 228th St.\, Maple Valley\, WA\, 98038\, United States
CATEGORIES:Horseshoe Events
ATTACH;FMTTYPE=image/jpeg:https://southseattlesaddleclub.com/wp-content/uploads/2022/05/1948233_1435617023350877_1826516631_n.jpg
ORGANIZER;CN="Randal Harris":MAILTO:randal.harris@icloud.com
END:VEVENT
BEGIN:VEVENT
DTSTART;TZID=UTC:20220507T090000
DTEND;TZID=UTC:20220507T140000
DTSTAMP:20260425T075209
CREATED:20220428T030254Z
LAST-MODIFIED:20220430T034654Z
UID:182-1651914000-1651932000@southseattlesaddleclub.com
SUMMARY:2022 Season Opener Work Party
DESCRIPTION:Calling all club members! We need all hands on deck to kick this season off with our grounds safe and accessible. Please be prepared to clean\, weed\, mow\, chop and repair. Please bring your work gloves and any tools that you feel would be helpful. Club will provide snacks and beverages. \nProjects: \nCutdown old/dead Maple at gate\nPick up branches and pile up\nClean up dead Blackberry bushes around arena\nClean up trail to river\nMow Grass-Big mowers and lawn mowers\nClean out Pond-install pipe in pond turn on water\nTurn on water to arena\nPut out hoses around the arena\nPut out fire hoses in arena\nPut out picnic tables\nClean Kitchen-pressure wash\nClean Office-pressure wash\nCheck bathrooms for cleaning\nCheck Clubhouse for cleaning\nROOF LEAKS in show office\nROOF LEAKS in girls bathroom
URL:https://southseattlesaddleclub.com/event/work-party/
LOCATION:South Seattle Saddle Club\, 22740 S.E. 228th St.\, Maple Valley\, WA\, 98038\, United States
CATEGORIES:Member Work Party
ATTACH;FMTTYPE=image/jpeg:https://southseattlesaddleclub.com/wp-content/uploads/2022/04/work-party-scaled.jpg
ORGANIZER;CN="Jackie Little":MAILTO:littlesrc66@outlook.com
END:VEVENT
END:VCALENDAR