BEGIN:VCALENDAR
VERSION:2.0
PRODID:-//South Seattle Saddle Club - ECPv6.15.20//NONSGML v1.0//EN
CALSCALE:GREGORIAN
METHOD:PUBLISH
X-ORIGINAL-URL:https://southseattlesaddleclub.com
X-WR-CALDESC:Events for South Seattle Saddle Club
REFRESH-INTERVAL;VALUE=DURATION:PT1H
X-Robots-Tag:noindex
X-PUBLISHED-TTL:PT1H
BEGIN:VTIMEZONE
TZID:America/Los_Angeles
BEGIN:DAYLIGHT
TZOFFSETFROM:-0800
TZOFFSETTO:-0700
TZNAME:PDT
DTSTART:20250309T100000
END:DAYLIGHT
BEGIN:STANDARD
TZOFFSETFROM:-0700
TZOFFSETTO:-0800
TZNAME:PST
DTSTART:20251102T090000
END:STANDARD
BEGIN:DAYLIGHT
TZOFFSETFROM:-0800
TZOFFSETTO:-0700
TZNAME:PDT
DTSTART:20260308T100000
END:DAYLIGHT
BEGIN:STANDARD
TZOFFSETFROM:-0700
TZOFFSETTO:-0800
TZNAME:PST
DTSTART:20261101T090000
END:STANDARD
BEGIN:DAYLIGHT
TZOFFSETFROM:-0800
TZOFFSETTO:-0700
TZNAME:PDT
DTSTART:20270314T100000
END:DAYLIGHT
BEGIN:STANDARD
TZOFFSETFROM:-0700
TZOFFSETTO:-0800
TZNAME:PST
DTSTART:20271107T090000
END:STANDARD
END:VTIMEZONE
BEGIN:VEVENT
DTSTART;TZID=America/Los_Angeles:20260530T080000
DTEND;TZID=America/Los_Angeles:20260530T170000
DTSTAMP:20260423T165210
CREATED:20260210T020358Z
LAST-MODIFIED:20260210T020358Z
UID:1861-1780128000-1780160400@southseattlesaddleclub.com
SUMMARY:Play Day 2026 Series Opener
DESCRIPTION:Events: TBD \nFees: \nBuckeroo/Leadline: $25 | Members: $35 | Non-members: $45 | Member Family (3+): $80 \n  \nAge Divisions: \nBeginner/Leadline: All Ages | Buckeroo: 8 & under | Junior: 9-13 | Intermediate: 14-18 | Senior: 19 and over \n  \nDaily Highpoint Awards! Toy chest and ribbons for Buckeroo/Leadline! \nGates open at 8am \nClick here for Play Day rules and more info >>
URL:https://southseattlesaddleclub.com/event/play-day-2026-series-opener/
LOCATION:South Seattle Saddle Club\, 22740 S.E. 228th St.\, Maple Valley\, WA\, 98038\, United States
CATEGORIES:Play Days
ATTACH;FMTTYPE=image/png:https://southseattlesaddleclub.com/wp-content/uploads/2026/02/Screenshot-2026-02-09-at-6.02.31-PM.png
ORGANIZER;CN="Bonnie Valdez":MAILTO:blv9024@gmail.com
END:VEVENT
BEGIN:VEVENT
DTSTART;TZID=America/Los_Angeles:20260606T090000
DTEND;TZID=America/Los_Angeles:20260607T170000
DTSTAMP:20260423T165210
CREATED:20260210T022019Z
LAST-MODIFIED:20260421T193319Z
UID:1878-1780736400-1780851600@southseattlesaddleclub.com
SUMMARY:PSHA Weekend - Saturday
DESCRIPTION:Join us for South Seattle Saddle Club’s PSHA show weekend\, June 7-8! This is a 2 day event\, so please come and enjoy the grounds and bring your campers. Cook shack will be open for breakfast and lunch. \nGates:\n12pm Friday\n9am Saturday\n9am Sunday \nFees:\n$3.50 per ride\n$6.00 jackpot with 50% payback\nBuckaroos $2.25 per ride \nArena fee $5 per horse.\n*We accept credit\, cash and check \nPSHA Members:\nBe sure you’ve registered yourself and your horse prior to event. Both numbers are to be provided to judges before each event. \nNot sure if you’ve registered yet?\nVisit the official PSHA website to look up rider and horse numbers\, or to register. \nPro Tip! Write both numbers on your arm! This is especially useful for buckeroos. \nNon-Members:\nNot planning to register with PSHA and just want to ride for fun? No problem. Just sign up at the office as an X-Rider on the day of the event. You will receive a day number to ride the events. Your times will not count towards PSHA finals. \nRace Order\nKeyrace\, Keyhole\, Poles\, Team poles\, Flags\, Team flags\, 2 man 3 barrel\, Team baton\, Bareback relay\, Figure 8\, Cal stake\, 2 man stake\, Barrels\, Rescue race\, Cowhide
URL:https://southseattlesaddleclub.com/event/psha-weekend-saturday/
LOCATION:South Seattle Saddle Club\, 22740 S.E. 228th St.\, Maple Valley\, WA\, 98038\, United States
CATEGORIES:PSHA Events
ATTACH;FMTTYPE=image/jpeg:https://southseattlesaddleclub.com/wp-content/uploads/2024/01/psha.jpg
ORGANIZER;CN="Sarah Sutcliffe":MAILTO:sarahrsutcliffe@gmail.com
END:VEVENT
BEGIN:VEVENT
DTSTART;TZID=America/Los_Angeles:20260608T090000
DTEND;TZID=America/Los_Angeles:20260608T170000
DTSTAMP:20260423T165210
CREATED:20260210T022154Z
LAST-MODIFIED:20260210T022214Z
UID:1880-1780909200-1780938000@southseattlesaddleclub.com
SUMMARY:PSHA Weekend - Sunday
DESCRIPTION:Join us for South Seattle Saddle Club’s PSHA show weekend\, June 7-8! This is a 2 day event\, so please come and enjoy the grounds and bring your campers. Cook shack will be open for breakfast and lunch. \nGates:\n12pm Friday\n9am Saturday\n9am Sunday \nFees:\n$3.50 per ride\n$6.00 jackpot with 50% payback\nBuckaroos $2.25 per ride \nArena fee $5 per horse.\n*We accept credit\, cash and check \nPSHA Members:\nBe sure you’ve registered yourself and your horse prior to event. Both numbers are to be provided to judges before each event. \nNot sure if you’ve registered yet?\nVisit the official PSHA website to look up rider and horse numbers\, or to register. \nPro Tip! Write both numbers on your arm! This is especially useful for buckeroos. \nNon-Members:\nNot planning to register with PSHA and just want to ride for fun? No problem. Just sign up at the office as an X-Rider on the day of the event. You will receive a day number to ride the events. Your times will not count towards PSHA finals. \nRace Order\nKeyrace\, Keyhole\, Poles\, Team poles\, Flags\, Team flags\, 2 man 3 barrel\, Team baton\, Bareback relay\, Figure 8\, Cal stake\, 2 man stake\, Barrels\, Rescue race\, Cowhide
URL:https://southseattlesaddleclub.com/event/psha-weekend-sunday/
LOCATION:South Seattle Saddle Club\, 22740 S.E. 228th St.\, Maple Valley\, WA\, 98038\, United States
CATEGORIES:PSHA Events
ATTACH;FMTTYPE=image/jpeg:https://southseattlesaddleclub.com/wp-content/uploads/2024/01/psha.jpg
ORGANIZER;CN="Sarah Sutcliffe":MAILTO:sarahrsutcliffe@gmail.com
END:VEVENT
BEGIN:VEVENT
DTSTART;TZID=America/Los_Angeles:20260613T080000
DTEND;TZID=America/Los_Angeles:20260613T170000
DTSTAMP:20260423T165210
CREATED:20260210T020556Z
LAST-MODIFIED:20260210T020556Z
UID:1864-1781337600-1781370000@southseattlesaddleclub.com
SUMMARY:Play Day 2026 Series
DESCRIPTION:Events: TBD \nFees: \nBuckeroo/Leadline: $25 | Members: $35 | Non-members: $45 | Member Family (3+): $80 \n  \nAge Divisions: \nBeginner/Leadline: All Ages | Buckeroo: 8 & under | Junior: 9-13 | Intermediate: 14-18 | Senior: 19 and over \n  \nDaily Highpoint Awards! Toy chest and ribbons for Buckeroo/Leadline! \nGates open at 8am \nClick here for Play Day rules and more info >>
URL:https://southseattlesaddleclub.com/event/play-day-2026-series/
LOCATION:South Seattle Saddle Club\, 22740 S.E. 228th St.\, Maple Valley\, WA\, 98038\, United States
CATEGORIES:Play Days
ATTACH;FMTTYPE=image/png:https://southseattlesaddleclub.com/wp-content/uploads/2026/02/Screenshot-2026-02-09-at-6.02.31-PM.png
ORGANIZER;CN="Bonnie Valdez":MAILTO:blv9024@gmail.com
END:VEVENT
BEGIN:VEVENT
DTSTART;TZID=America/Los_Angeles:20260620T090000
DTEND;TZID=America/Los_Angeles:20260620T173000
DTSTAMP:20260423T165210
CREATED:20260210T023821Z
LAST-MODIFIED:20260210T024106Z
UID:1894-1781946000-1781976600@southseattlesaddleclub.com
SUMMARY:Trinity Trails Ranch Riding Clinic
DESCRIPTION:Learn more >>
URL:https://southseattlesaddleclub.com/event/trinity-trails-ranch-riding-clinic/
LOCATION:South Seattle Saddle Club\, 22740 S.E. 228th St.\, Maple Valley\, WA\, 98038\, United States
CATEGORIES:Trinity Trails
ATTACH;FMTTYPE=image/png:https://southseattlesaddleclub.com/wp-content/uploads/2026/02/Screenshot-2026-02-09-at-6.37.23-PM.png
ORGANIZER;CN="Vickie Sheehan Zettle":MAILTO:vickiesheehan@msn.com
END:VEVENT
BEGIN:VEVENT
DTSTART;TZID=America/Los_Angeles:20260621T090000
DTEND;TZID=America/Los_Angeles:20260621T170000
DTSTAMP:20260423T165210
CREATED:20260210T024028Z
LAST-MODIFIED:20260210T024028Z
UID:1899-1782032400-1782061200@southseattlesaddleclub.com
SUMMARY:Trinity Trails Ranch Show
DESCRIPTION:
URL:https://southseattlesaddleclub.com/event/trinity-trails-ranch-show/
LOCATION:South Seattle Saddle Club\, 22740 S.E. 228th St.\, Maple Valley\, WA\, 98038\, United States
CATEGORIES:Trinity Trails
ATTACH;FMTTYPE=image/png:https://southseattlesaddleclub.com/wp-content/uploads/2026/02/Screenshot-2026-02-09-at-6.37.23-PM.png
ORGANIZER;CN="Vickie Sheehan Zettle":MAILTO:vickiesheehan@msn.com
END:VEVENT
BEGIN:VEVENT
DTSTART;TZID=America/Los_Angeles:20260627T090000
DTEND;TZID=America/Los_Angeles:20260627T170000
DTSTAMP:20260423T165210
CREATED:20260210T022359Z
LAST-MODIFIED:20260210T022359Z
UID:1882-1782550800-1782579600@southseattlesaddleclub.com
SUMMARY:PSHA Weekend - Saturday
DESCRIPTION:Join us for South Seattle Saddle Club’s PSHA show weekend\, June 27-28! This is a 2 day event\, so please come and enjoy the grounds and bring your campers. Cook shack will be open for breakfast and lunch. \nGates:\n12pm Friday\n9am Saturday\n9am Sunday \nFees:\n$3.50 per ride\n$6.00 jackpot with 50% payback\nBuckaroos $2.25 per ride \nArena fee $5 per horse.\n*We accept credit\, cash and check \nPSHA Members:\nBe sure you’ve registered yourself and your horse prior to event. Both numbers are to be provided to judges before each event. \nNot sure if you’ve registered yet?\nVisit the official PSHA website to look up rider and horse numbers\, or to register. \nPro Tip! Write both numbers on your arm! This is especially useful for buckeroos. \nNon-Members:\nNot planning to register with PSHA and just want to ride for fun? No problem. Just sign up at the office as an X-Rider on the day of the event. You will receive a day number to ride the events. Your times will not count towards PSHA finals. \nRace Order\nKeyrace\, Keyhole\, Poles\, Team poles\, Flags\, Team flags\, 2 man 3 barrel\, Team baton\, Bareback relay\, Figure 8\, Cal stake\, 2 man stake\, Barrels\, Rescue race\, Cowhide
URL:https://southseattlesaddleclub.com/event/psha-weekend-saturday-2/
LOCATION:South Seattle Saddle Club\, 22740 S.E. 228th St.\, Maple Valley\, WA\, 98038\, United States
CATEGORIES:Play Days
ATTACH;FMTTYPE=image/jpeg:https://southseattlesaddleclub.com/wp-content/uploads/2024/01/psha.jpg
ORGANIZER;CN="Sarah Sutcliffe":MAILTO:sarahrsutcliffe@gmail.com
END:VEVENT
BEGIN:VEVENT
DTSTART;TZID=America/Los_Angeles:20260628T090000
DTEND;TZID=America/Los_Angeles:20260628T170000
DTSTAMP:20260423T165210
CREATED:20260210T022507Z
LAST-MODIFIED:20260210T022507Z
UID:1884-1782637200-1782666000@southseattlesaddleclub.com
SUMMARY:PSHA Weekend - Sunday
DESCRIPTION:Join us for South Seattle Saddle Club’s PSHA show weekend\, June 27-28! This is a 2 day event\, so please come and enjoy the grounds and bring your campers. Cook shack will be open for breakfast and lunch. \nGates:\n12pm Friday\n9am Saturday\n9am Sunday \nFees:\n$3.50 per ride\n$6.00 jackpot with 50% payback\nBuckaroos $2.25 per ride \nArena fee $5 per horse.\n*We accept credit\, cash and check \nPSHA Members:\nBe sure you’ve registered yourself and your horse prior to event. Both numbers are to be provided to judges before each event. \nNot sure if you’ve registered yet?\nVisit the official PSHA website to look up rider and horse numbers\, or to register. \nPro Tip! Write both numbers on your arm! This is especially useful for buckeroos. \nNon-Members:\nNot planning to register with PSHA and just want to ride for fun? No problem. Just sign up at the office as an X-Rider on the day of the event. You will receive a day number to ride the events. Your times will not count towards PSHA finals. \nRace Order\nKeyrace\, Keyhole\, Poles\, Team poles\, Flags\, Team flags\, 2 man 3 barrel\, Team baton\, Bareback relay\, Figure 8\, Cal stake\, 2 man stake\, Barrels\, Rescue race\, Cowhide
URL:https://southseattlesaddleclub.com/event/psha-weekend-sunday-2/
LOCATION:South Seattle Saddle Club\, 22740 S.E. 228th St.\, Maple Valley\, WA\, 98038\, United States
CATEGORIES:PSHA Events
ATTACH;FMTTYPE=image/jpeg:https://southseattlesaddleclub.com/wp-content/uploads/2024/01/psha.jpg
ORGANIZER;CN="Sarah Sutcliffe":MAILTO:sarahrsutcliffe@gmail.com
END:VEVENT
BEGIN:VEVENT
DTSTART;TZID=America/Los_Angeles:20260711T090000
DTEND;TZID=America/Los_Angeles:20260711T170000
DTSTAMP:20260423T165210
CREATED:20260210T022634Z
LAST-MODIFIED:20260210T022634Z
UID:1886-1783760400-1783789200@southseattlesaddleclub.com
SUMMARY:PSHA Weekend - Saturday
DESCRIPTION:Join us for South Seattle Saddle Club’s PSHA show weekend\, July 11-12! This is a 2 day event\, so please come and enjoy the grounds and bring your campers. Cook shack will be open for breakfast and lunch. \nGates:\n12pm Friday\n9am Saturday\n9am Sunday \nFees:\n$3.50 per ride\n$6.00 jackpot with 50% payback\nBuckaroos $2.25 per ride \nArena fee $5 per horse.\n*We accept credit\, cash and check \nPSHA Members:\nBe sure you’ve registered yourself and your horse prior to event. Both numbers are to be provided to judges before each event. \nNot sure if you’ve registered yet?\nVisit the official PSHA website to look up rider and horse numbers\, or to register. \nPro Tip! Write both numbers on your arm! This is especially useful for buckeroos. \nNon-Members:\nNot planning to register with PSHA and just want to ride for fun? No problem. Just sign up at the office as an X-Rider on the day of the event. You will receive a day number to ride the events. Your times will not count towards PSHA finals. \nRace Order\nKeyrace\, Keyhole\, Poles\, Team poles\, Flags\, Team flags\, 2 man 3 barrel\, Team baton\, Bareback relay\, Figure 8\, Cal stake\, 2 man stake\, Barrels\, Rescue race\, Cowhide
URL:https://southseattlesaddleclub.com/event/psha-weekend-saturday-3/
LOCATION:South Seattle Saddle Club\, 22740 S.E. 228th St.\, Maple Valley\, WA\, 98038\, United States
CATEGORIES:PSHA Events
ATTACH;FMTTYPE=image/jpeg:https://southseattlesaddleclub.com/wp-content/uploads/2024/01/psha.jpg
ORGANIZER;CN="Sarah Sutcliffe":MAILTO:sarahrsutcliffe@gmail.com
END:VEVENT
BEGIN:VEVENT
DTSTART;TZID=America/Los_Angeles:20260712T090000
DTEND;TZID=America/Los_Angeles:20260712T170000
DTSTAMP:20260423T165210
CREATED:20260210T022736Z
LAST-MODIFIED:20260210T022736Z
UID:1888-1783846800-1783875600@southseattlesaddleclub.com
SUMMARY:PSHA Weekend - Sunday
DESCRIPTION:Join us for South Seattle Saddle Club’s PSHA show weekend\, July 11-12! This is a 2 day event\, so please come and enjoy the grounds and bring your campers. Cook shack will be open for breakfast and lunch. \nGates:\n12pm Friday\n9am Saturday\n9am Sunday \nFees:\n$3.50 per ride\n$6.00 jackpot with 50% payback\nBuckaroos $2.25 per ride \nArena fee $5 per horse.\n*We accept credit\, cash and check \nPSHA Members:\nBe sure you’ve registered yourself and your horse prior to event. Both numbers are to be provided to judges before each event. \nNot sure if you’ve registered yet?\nVisit the official PSHA website to look up rider and horse numbers\, or to register. \nPro Tip! Write both numbers on your arm! This is especially useful for buckeroos. \nNon-Members:\nNot planning to register with PSHA and just want to ride for fun? No problem. Just sign up at the office as an X-Rider on the day of the event. You will receive a day number to ride the events. Your times will not count towards PSHA finals. \nRace Order\nKeyrace\, Keyhole\, Poles\, Team poles\, Flags\, Team flags\, 2 man 3 barrel\, Team baton\, Bareback relay\, Figure 8\, Cal stake\, 2 man stake\, Barrels\, Rescue race\, Cowhide
URL:https://southseattlesaddleclub.com/event/psha-weekend-sunday-3/
LOCATION:South Seattle Saddle Club\, 22740 S.E. 228th St.\, Maple Valley\, WA\, 98038\, United States
CATEGORIES:PSHA Events
ATTACH;FMTTYPE=image/jpeg:https://southseattlesaddleclub.com/wp-content/uploads/2024/01/psha.jpg
ORGANIZER;CN="Sarah Sutcliffe":MAILTO:sarahrsutcliffe@gmail.com
END:VEVENT
BEGIN:VEVENT
DTSTART;TZID=America/Los_Angeles:20260725T090000
DTEND;TZID=America/Los_Angeles:20260725T170000
DTSTAMP:20260423T165210
CREATED:20260210T022858Z
LAST-MODIFIED:20260210T022858Z
UID:1890-1784970000-1784998800@southseattlesaddleclub.com
SUMMARY:PSHA Weekend - Saturday
DESCRIPTION:Join us for South Seattle Saddle Club’s PSHA show weekend\, July 25-26! This is a 2 day event\, so please come and enjoy the grounds and bring your campers. Cook shack will be open for breakfast and lunch. \nGates:\n12pm Friday\n9am Saturday\n9am Sunday \nFees:\n$3.50 per ride\n$6.00 jackpot with 50% payback\nBuckaroos $2.25 per ride \nArena fee $5 per horse.\n*We accept credit\, cash and check \nPSHA Members:\nBe sure you’ve registered yourself and your horse prior to event. Both numbers are to be provided to judges before each event. \nNot sure if you’ve registered yet?\nVisit the official PSHA website to look up rider and horse numbers\, or to register. \nPro Tip! Write both numbers on your arm! This is especially useful for buckeroos. \nNon-Members:\nNot planning to register with PSHA and just want to ride for fun? No problem. Just sign up at the office as an X-Rider on the day of the event. You will receive a day number to ride the events. Your times will not count towards PSHA finals. \nRace Order\nKeyrace\, Keyhole\, Poles\, Team poles\, Flags\, Team flags\, 2 man 3 barrel\, Team baton\, Bareback relay\, Figure 8\, Cal stake\, 2 man stake\, Barrels\, Rescue race\, Cowhide
URL:https://southseattlesaddleclub.com/event/psha-weekend-saturday-4/
LOCATION:South Seattle Saddle Club\, 22740 S.E. 228th St.\, Maple Valley\, WA\, 98038\, United States
CATEGORIES:PSHA Events
ATTACH;FMTTYPE=image/jpeg:https://southseattlesaddleclub.com/wp-content/uploads/2024/01/psha.jpg
ORGANIZER;CN="Sarah Sutcliffe":MAILTO:sarahrsutcliffe@gmail.com
END:VEVENT
BEGIN:VEVENT
DTSTART;TZID=America/Los_Angeles:20260726T090000
DTEND;TZID=America/Los_Angeles:20260726T170000
DTSTAMP:20260423T165210
CREATED:20260210T023004Z
LAST-MODIFIED:20260210T023004Z
UID:1892-1785056400-1785085200@southseattlesaddleclub.com
SUMMARY:PSHA Weekend - Sunday
DESCRIPTION:Join us for South Seattle Saddle Club’s PSHA show weekend\, July 25-26! This is a 2 day event\, so please come and enjoy the grounds and bring your campers. Cook shack will be open for breakfast and lunch. \nGates:\n12pm Friday\n9am Saturday\n9am Sunday \nFees:\n$3.50 per ride\n$6.00 jackpot with 50% payback\nBuckaroos $2.25 per ride \nArena fee $5 per horse.\n*We accept credit\, cash and check \nPSHA Members:\nBe sure you’ve registered yourself and your horse prior to event. Both numbers are to be provided to judges before each event. \nNot sure if you’ve registered yet?\nVisit the official PSHA website to look up rider and horse numbers\, or to register. \nPro Tip! Write both numbers on your arm! This is especially useful for buckeroos. \nNon-Members:\nNot planning to register with PSHA and just want to ride for fun? No problem. Just sign up at the office as an X-Rider on the day of the event. You will receive a day number to ride the events. Your times will not count towards PSHA finals. \nRace Order\nKeyrace\, Keyhole\, Poles\, Team poles\, Flags\, Team flags\, 2 man 3 barrel\, Team baton\, Bareback relay\, Figure 8\, Cal stake\, 2 man stake\, Barrels\, Rescue race\, Cowhide
URL:https://southseattlesaddleclub.com/event/psha-weekend-sunday-4/
LOCATION:South Seattle Saddle Club\, 22740 S.E. 228th St.\, Maple Valley\, WA\, 98038\, United States
CATEGORIES:PSHA Events
ATTACH;FMTTYPE=image/jpeg:https://southseattlesaddleclub.com/wp-content/uploads/2024/01/psha.jpg
ORGANIZER;CN="Sarah Sutcliffe":MAILTO:sarahrsutcliffe@gmail.com
END:VEVENT
BEGIN:VEVENT
DTSTART;TZID=America/Los_Angeles:20260801T080000
DTEND;TZID=America/Los_Angeles:20260801T170000
DTSTAMP:20260423T165210
CREATED:20260210T020716Z
LAST-MODIFIED:20260210T020716Z
UID:1866-1785571200-1785603600@southseattlesaddleclub.com
SUMMARY:Play Day 2026 Series
DESCRIPTION:Events: TBD \nFees: \nBuckeroo/Leadline: $25 | Members: $35 | Non-members: $45 | Member Family (3+): $80 \n  \nAge Divisions: \nBeginner/Leadline: All Ages | Buckeroo: 8 & under | Junior: 9-13 | Intermediate: 14-18 | Senior: 19 and over \n  \nDaily Highpoint Awards! Toy chest and ribbons for Buckeroo/Leadline! \nGates open at 8am \nClick here for Play Day rules and more info >>
URL:https://southseattlesaddleclub.com/event/play-day-2026-series-2/
LOCATION:South Seattle Saddle Club\, 22740 S.E. 228th St.\, Maple Valley\, WA\, 98038\, United States
CATEGORIES:Play Days
ATTACH;FMTTYPE=image/png:https://southseattlesaddleclub.com/wp-content/uploads/2026/02/Screenshot-2026-02-09-at-6.02.31-PM.png
ORGANIZER;CN="Bonnie Valdez":MAILTO:blv9024@gmail.com
END:VEVENT
BEGIN:VEVENT
DTSTART;TZID=America/Los_Angeles:20260802T080000
DTEND;TZID=America/Los_Angeles:20260802T080000
DTSTAMP:20260423T165210
CREATED:20260210T020813Z
LAST-MODIFIED:20260210T021544Z
UID:1868-1785657600-1785657600@southseattlesaddleclub.com
SUMMARY:Play Day 2026 Series
DESCRIPTION:Events: TBD \nFees: \nBuckeroo/Leadline: $25 | Members: $35 | Non-members: $45 | Member Family (3+): $80 \n  \nAge Divisions: \nBeginner/Leadline: All Ages | Buckeroo: 8 & under | Junior: 9-13 | Intermediate: 14-18 | Senior: 19 and over \n  \nDaily Highpoint Awards! Toy chest and ribbons for Buckeroo/Leadline! \nGates open at 8am \nClick here for Play Day rules and more info >>
URL:https://southseattlesaddleclub.com/event/play-day-2026-series-3/
LOCATION:South Seattle Saddle Club\, 22740 S.E. 228th St.\, Maple Valley\, WA\, 98038\, United States
CATEGORIES:Play Days
ATTACH;FMTTYPE=image/png:https://southseattlesaddleclub.com/wp-content/uploads/2026/02/Screenshot-2026-02-09-at-6.02.31-PM.png
ORGANIZER;CN="Bonnie Valdez":MAILTO:blv9024@gmail.com
END:VEVENT
BEGIN:VEVENT
DTSTART;TZID=America/Los_Angeles:20260815T080000
DTEND;TZID=America/Los_Angeles:20260815T170000
DTSTAMP:20260423T165210
CREATED:20260210T021056Z
LAST-MODIFIED:20260210T021056Z
UID:1870-1786780800-1786813200@southseattlesaddleclub.com
SUMMARY:Play Day 2026 Series
DESCRIPTION:Events: TBD \nFees: \nBuckeroo/Leadline: $25 | Members: $35 | Non-members: $45 | Member Family (3+): $80 \n  \nAge Divisions: \nBeginner/Leadline: All Ages | Buckeroo: 8 & under | Junior: 9-13 | Intermediate: 14-18 | Senior: 19 and over \n  \nDaily Highpoint Awards! Toy chest and ribbons for Buckeroo/Leadline! \nGates open at 8am \nClick here for Play Day rules and more info >>
URL:https://southseattlesaddleclub.com/event/play-day-2026-series-4/
LOCATION:South Seattle Saddle Club\, 22740 S.E. 228th St.\, Maple Valley\, WA\, 98038\, United States
CATEGORIES:Play Days
ATTACH;FMTTYPE=image/png:https://southseattlesaddleclub.com/wp-content/uploads/2026/02/Screenshot-2026-02-09-at-6.02.31-PM.png
ORGANIZER;CN="Bonnie Valdez":MAILTO:blv9024@gmail.com
END:VEVENT
BEGIN:VEVENT
DTSTART;TZID=America/Los_Angeles:20260816T080000
DTEND;TZID=America/Los_Angeles:20260816T170000
DTSTAMP:20260423T165210
CREATED:20260210T021247Z
LAST-MODIFIED:20260210T021316Z
UID:1873-1786867200-1786899600@southseattlesaddleclub.com
SUMMARY:Play Day 2026 Series
DESCRIPTION:Events: TBD \nFees: \nBuckeroo/Leadline: $25 | Members: $35 | Non-members: $45 | Member Family (3+): $80 \n  \nAge Divisions: \nBeginner/Leadline: All Ages | Buckeroo: 8 & under | Junior: 9-13 | Intermediate: 14-18 | Senior: 19 and over \n  \nDaily Highpoint Awards! Toy chest and ribbons for Buckeroo/Leadline! \nGates open at 8am \nClick here for Play Day rules and more info >>
URL:https://southseattlesaddleclub.com/event/play-day-2026-series-5/
LOCATION:South Seattle Saddle Club\, 22740 S.E. 228th St.\, Maple Valley\, WA\, 98038\, United States
CATEGORIES:Play Days
ATTACH;FMTTYPE=image/png:https://southseattlesaddleclub.com/wp-content/uploads/2026/02/Screenshot-2026-02-09-at-6.02.31-PM.png
ORGANIZER;CN="Bonnie Valdez":MAILTO:blv9024@gmail.com
END:VEVENT
BEGIN:VEVENT
DTSTART;TZID=America/Los_Angeles:20260822T093000
DTEND;TZID=America/Los_Angeles:20260822T190000
DTSTAMP:20260423T165210
CREATED:20260210T024358Z
LAST-MODIFIED:20260325T232252Z
UID:1901-1787391000-1787425200@southseattlesaddleclub.com
SUMMARY:Ride for a Reason - South Seattle Saddle Club Benefit Barrel Race
DESCRIPTION:2nd Annual Ride for a Reason\nBenefitting Curvy Girls – International Scoliosis Peer Support for Girls\nJoin us for a full day of barrels\, community\, and giving back at the South Seattle Saddle Club. \nThis event is especially close to our hearts—one of our very own is part of Curvy Girls and the Saddle Club\, and we’re proud to ride in support of a community that uplifts girls navigating scoliosis with strength and confidence. \n Date: August 22 Location: South Seattle Saddle Club | 22740 SE 228th St Maple Valley\, WA 98038 \n\n Open Barrel Race (Non-Sanctioned)\nA fun\, competitive race open to all riders—focused on community\, not points. \nEntry Fee: $25 per run \nFormat: 1D–4D \nPayout: 1st–5th place in each division \n All entry fees go directly to the fundraiser benefiting Curvy Girls. \n $2\,000 Cash PotThis is a guaranteed pot funded through fundraising efforts.Entry fees are not added to the pot. \n\n Time Onlys\nGet your horse dialed in before your run: \n$5 each or 3 for $10 \n1-minute limit per horse \nPurchase at the office or cash at the gate before entering the arena \n Time Onlys: 9:30 AM Race Begins: 11:00 AM \n\n Mother & Daughter Barrel Race + Team Auction\n Starts at 5:00 PM\nThe heart of the event—and a crowd favorite. \nThis race is about connection\, confidence\, and celebrating the women who lift the next generation up—not about being the fastest or most experienced. \n\n Team Format\nTeams consist of one female adult + one female youth \n“Mother & Daughter” can be any meaningful duo—mom\, grandma\, aunt\, cousin\, mentor\, or best friend \nEach team will be assigned a team number \n This is about showing up\, having fun\, and raising money for a meaningful cause \n\n How It Works\nAll youth riders will run first\, followed by all adult riders \nEach team’s combined time determines placing \nTime will be allowed for tack/saddle changes between runs as needed \n5-second penalty will be added for each knocked-over barrel \nHelmets are required for ALL riders \n\n Team Experience\nEach team will submit: \nTeam Name \nRide Song  \nShort Bio (shared with the crowd during introductions) \n Teams are highly encouraged to dress up\, coordinate outfits\, and bring the energy The more spirit you bring\, the more you help raise money through the auction \n\n Live Team Auction\nBefore the race begins\, each team will be introduced to the crowd with their song and bio\, then auctioned off live. \nSpectators will have the opportunity to bid on their favorite teams\, with the highest bidder “owning” that team for the race. \n This is where teams can truly shine—personality\, creativity\, and heart matter more than speed \n\n Auction Format\nEach team is sold to the highest bidder \nAll winning bids must be paid at the office before the race begins \n 50/50 Split: \n50% of each winning bid → Curvy Girls \n50% → payout pool \n Teams are raising money simply by participating and being bid on—winning is just a bonus \n\n Payout\nCash payouts will be awarded based on team performance: \n1st Place: 50% of payout pool \n2nd Place: 30% \n3rd Place: 20% \n\n Cook Shack\nThe Cook Shack will be open all day serving: \nBreakfast \nLunch & Dinner (burgers and more) \nSnacks & drinks \n All Cook Shack proceeds benefit the South Seattle Saddle Club.
URL:https://southseattlesaddleclub.com/event/ride-for-a-reason-south-seattle-saddle-club-benefit-barrel-race/
LOCATION:South Seattle Saddle Club\, 22740 S.E. 228th St.\, Maple Valley\, WA\, 98038\, United States
CATEGORIES:Ride for a Reason
ATTACH;FMTTYPE=image/jpeg:https://southseattlesaddleclub.com/wp-content/uploads/2026/01/20250906_RIDINTEXAS-2973-X4.jpg
ORGANIZER;CN="Lyndsey San Sebastian":MAILTO:lyndsey@horseandcoal.com
END:VEVENT
BEGIN:VEVENT
DTSTART;TZID=America/Los_Angeles:20260912T080000
DTEND;TZID=America/Los_Angeles:20260912T170000
DTSTAMP:20260423T165210
CREATED:20260210T021650Z
LAST-MODIFIED:20260210T021650Z
UID:1876-1789200000-1789232400@southseattlesaddleclub.com
SUMMARY:Play Day 2026 Series
DESCRIPTION:Events: TBD \nFees: \nBuckeroo/Leadline: $25 | Members: $35 | Non-members: $45 | Member Family (3+): $80 \n  \nAge Divisions: \nBeginner/Leadline: All Ages | Buckeroo: 8 & under | Junior: 9-13 | Intermediate: 14-18 | Senior: 19 and over \n  \nDaily Highpoint Awards! Toy chest and ribbons for Buckeroo/Leadline! \nGates open at 8am \nClick here for Play Day rules and more info >>
URL:https://southseattlesaddleclub.com/event/play-day-2026-series-6/
LOCATION:South Seattle Saddle Club\, 22740 S.E. 228th St.\, Maple Valley\, WA\, 98038\, United States
CATEGORIES:Play Days
ATTACH;FMTTYPE=image/png:https://southseattlesaddleclub.com/wp-content/uploads/2026/02/Screenshot-2026-02-09-at-6.02.31-PM.png
ORGANIZER;CN="Bonnie Valdez":MAILTO:blv9024@gmail.com
END:VEVENT
END:VCALENDAR