BEGIN:VCALENDAR
VERSION:2.0
PRODID:-//South Seattle Saddle Club - ECPv6.15.20//NONSGML v1.0//EN
CALSCALE:GREGORIAN
METHOD:PUBLISH
X-ORIGINAL-URL:https://southseattlesaddleclub.com
X-WR-CALDESC:Events for South Seattle Saddle Club
REFRESH-INTERVAL;VALUE=DURATION:PT1H
X-Robots-Tag:noindex
X-PUBLISHED-TTL:PT1H
BEGIN:VTIMEZONE
TZID:America/Los_Angeles
BEGIN:DAYLIGHT
TZOFFSETFROM:-0800
TZOFFSETTO:-0700
TZNAME:PDT
DTSTART:20240310T100000
END:DAYLIGHT
BEGIN:STANDARD
TZOFFSETFROM:-0700
TZOFFSETTO:-0800
TZNAME:PST
DTSTART:20241103T090000
END:STANDARD
BEGIN:DAYLIGHT
TZOFFSETFROM:-0800
TZOFFSETTO:-0700
TZNAME:PDT
DTSTART:20250309T100000
END:DAYLIGHT
BEGIN:STANDARD
TZOFFSETFROM:-0700
TZOFFSETTO:-0800
TZNAME:PST
DTSTART:20251102T090000
END:STANDARD
BEGIN:DAYLIGHT
TZOFFSETFROM:-0800
TZOFFSETTO:-0700
TZNAME:PDT
DTSTART:20260308T100000
END:DAYLIGHT
BEGIN:STANDARD
TZOFFSETFROM:-0700
TZOFFSETTO:-0800
TZNAME:PST
DTSTART:20261101T090000
END:STANDARD
END:VTIMEZONE
BEGIN:VEVENT
DTSTART;TZID=America/Los_Angeles:20250315T120000
DTEND;TZID=America/Los_Angeles:20250315T140000
DTSTAMP:20260423T152428
CREATED:20250306T002039Z
LAST-MODIFIED:20250315T003427Z
UID:1453-1742040000-1742047200@southseattlesaddleclub.com
SUMMARY:SSSC Trail Ride - Danville Georgetown
DESCRIPTION:UPDATE: THIS EVENT HAS BEEN CANCELLED DUE TO WEATHER \nSouth Seattle Saddle Club is reviving our long-standing tradition of trail rides\, inspiring riders to get back on their horses and stay in the saddle year-round—even during the off-season. We explore trails throughout the Pacific Northwest\, with a mix of short\, local rides and special overnight adventures. By connecting riders with nature and community\, we promote responsible horsemanship\, trail etiquette\, and safety. Our mission is to foster a supportive group where riders of all levels can learn\, share experiences\, and enjoy the beauty of the outdoors on horseback. \nSaturday March 15 at 12pm \nDanville Georgetown Open Space Trail \nSE 262nd St\, Ravensdale\, WA 98051 \nJoin South Seattle Saddle Club Members Lyndsey San Sebastian and Anita Chandler for a fun loop around Danville Georgetown. This is a beginner safe route and all disciplines are welcome. We’ll weave in and out of heavily forested areas. Trails are well maintained with no water crossings. Easy parking next to road – pull in\, pull out – no backing up required. Park on the same side of the road as the school. Everyone meet at the trail head (next to the horse crosswalk) at 12pm for a quick meet and greet before we head out. Pack water and a snack as we’ll plan for quick break in the middle. \n 
URL:https://southseattlesaddleclub.com/event/sssc-trail-ride-danville-georgetown/
LOCATION:Danville Georgetown\, SE 262nd St\, Ravensdale\, WA\, 98051\, United States
CATEGORIES:Trail Ride
ATTACH;FMTTYPE=image/jpeg:https://southseattlesaddleclub.com/wp-content/uploads/2025/03/horseback.jpg
ORGANIZER;CN="Lyndsey San Sebastian":MAILTO:lyndsey@horseandcoal.com
END:VEVENT
END:VCALENDAR