BEGIN:VCALENDAR
VERSION:2.0
PRODID:-//South Seattle Saddle Club - ECPv6.15.20//NONSGML v1.0//EN
CALSCALE:GREGORIAN
METHOD:PUBLISH
X-ORIGINAL-URL:https://southseattlesaddleclub.com
X-WR-CALDESC:Events for South Seattle Saddle Club
REFRESH-INTERVAL;VALUE=DURATION:PT1H
X-Robots-Tag:noindex
X-PUBLISHED-TTL:PT1H
BEGIN:VTIMEZONE
TZID:America/Los_Angeles
BEGIN:DAYLIGHT
TZOFFSETFROM:-0800
TZOFFSETTO:-0700
TZNAME:PDT
DTSTART:20230312T100000
END:DAYLIGHT
BEGIN:STANDARD
TZOFFSETFROM:-0700
TZOFFSETTO:-0800
TZNAME:PST
DTSTART:20231105T090000
END:STANDARD
BEGIN:DAYLIGHT
TZOFFSETFROM:-0800
TZOFFSETTO:-0700
TZNAME:PDT
DTSTART:20240310T100000
END:DAYLIGHT
BEGIN:STANDARD
TZOFFSETFROM:-0700
TZOFFSETTO:-0800
TZNAME:PST
DTSTART:20241103T090000
END:STANDARD
BEGIN:DAYLIGHT
TZOFFSETFROM:-0800
TZOFFSETTO:-0700
TZNAME:PDT
DTSTART:20250309T100000
END:DAYLIGHT
BEGIN:STANDARD
TZOFFSETFROM:-0700
TZOFFSETTO:-0800
TZNAME:PST
DTSTART:20251102T090000
END:STANDARD
BEGIN:DAYLIGHT
TZOFFSETFROM:-0800
TZOFFSETTO:-0700
TZNAME:PDT
DTSTART:20260308T100000
END:DAYLIGHT
BEGIN:STANDARD
TZOFFSETFROM:-0700
TZOFFSETTO:-0800
TZNAME:PST
DTSTART:20261101T090000
END:STANDARD
END:VTIMEZONE
BEGIN:VTIMEZONE
TZID:UTC
BEGIN:STANDARD
TZOFFSETFROM:+0000
TZOFFSETTO:+0000
TZNAME:UTC
DTSTART:20210101T000000
END:STANDARD
END:VTIMEZONE
BEGIN:VEVENT
DTSTART;TZID=America/Los_Angeles:20250906T100000
DTEND;TZID=America/Los_Angeles:20250907T170000
DTSTAMP:20260423T123217
CREATED:20250821T025646Z
LAST-MODIFIED:20250826T170728Z
UID:1814-1757152800-1757264400@southseattlesaddleclub.com
SUMMARY:Ride for Texas Barrel Race & Daddy Daughter Race
DESCRIPTION: Ride for Texas Barrel Race – September 6 & 7! \nJoin us at South Seattle Saddle Club for a fun-filled weekend that’s all about riding\, community\, and giving back! Whether you’re a seasoned rider or just getting started\, this is an event you don’t want to miss!\n\nSponsors: South Seattle Saddle Club\, Horse and Coal\, The Brim\, Pape Machinery\, WSBRI\, White River Tree Service\, Roof to Cellar\n\n When:\nSaturday\, Sept 6\nGates open: 8 AM\nTime Onlys: 10 AM – 12 PM\nOfficial Start: 1 PM\nSunday\, Sept 7\nGates open: 8 AM\nTime Onlys: 9 AM – 10:30 AM\nOfficial Start: 11 AM\n\n Where: South Seattle Saddle Club\n\n What’s Happening:\nNWBHA-WA01 Sanctioned Barrel Race\n$1000 Added to the Jackpot!\nRunning 4D\n$35 for Open Riders\n$25 for Youth & Senior Riders\n$15 for Peewee Riders\n\n Saturday’s Proceeds Go to Kerr County Flood Relief Fund in Texas!We want to support those affected by the devastating floods\, and we’re asking the horse community to come together\, ride together\, and make a meaningful difference.\n Weekend Average Awards for Open Riders $10 Saturday Night Dinner $25 Fee for Poles Jackpot with $200 Added Money (Saturday Only)\n\nSpecial Events:\nThe Cyclones Youth Drill Team performance at 5 PM\n\nDaddy Daughter Race at 6 PM\nTeams of 2 riding the same horse: This does not have to be a biological father and daughter! It could be any adult male mentor figure.\nFree to Enter – Preregister your team!\nTeams encouraged to have a team name\, song\, and outfit!\nPayouts for 1st\, 2nd\, and 3rd place.\n1st Place Team win CASH\, Custom Cowboy Hats by The Brim\, Horse and Coal Candles\, and a perpetual champion trophy\n*** BRING YOUR WALLETS AND BID ON YOUR FAVORITE TEAM TO WIN! ***\n\n\nPreregistration:\nPreregister by Sept 4 to avoid a $10 late fee!https://docs.google.com/…/1FAIpQLSfvNeOO8ME…/viewform…\nLet’s come together to support a great cause\, have some fun\, and show the strength of our horse community! \n\n Preregister Now and Spread the Word!\nWe hope to see you there\, ready to ride\, compete\, and make a difference! 
URL:https://southseattlesaddleclub.com/event/ride-for-texas-barrel-race-daddy-daughter-race/
LOCATION:South Seattle Saddle Club\, 22740 S.E. 228th St.\, Maple Valley\, WA\, 98038\, United States
CATEGORIES:Barrel Series,Social Events
ATTACH;FMTTYPE=image/jpeg:https://southseattlesaddleclub.com/wp-content/uploads/2025/08/ride-for-texas.jpg
ORGANIZER;CN="Lyndsey San Sebastian":MAILTO:lyndsey@horseandcoal.com
END:VEVENT
BEGIN:VEVENT
DTSTART;TZID=America/Los_Angeles:20250405T090000
DTEND;TZID=America/Los_Angeles:20250405T150000
DTSTAMP:20260423T123217
CREATED:20250401T235947Z
LAST-MODIFIED:20250401T235947Z
UID:1512-1743843600-1743865200@southseattlesaddleclub.com
SUMMARY:Spring Work Party + Annual Easter Egg Hunt
DESCRIPTION:Spring is here\, and it’s time to get the club ready for the season! We’d love for you to join us this Saturday\, April 5\, at 9 AM for our first work party of the year\, followed by the annual South Seattle Saddle Club Easter Egg Hunt & Potluck at 11 AM. \nWork Party – 9 AM \nThere’s plenty to do\, and we need all hands on deck! Our tasks for the day include:\n• Turning on the water\n• Cleaning the bathrooms\, office\, and kitchen\n• Installing the hot water tank in the kitchen\n• Picking up downed trees and branches\n• Weed-eating around the arena\, kitchen\, office\, bathrooms\, pump house\, round pen\, and tractor shed\n• Clearing blackberry bushes from the entrance fence and front road\n• Splitting and stacking firewood (we’ll have a wood splitter available)\n• Pressure washing the Connex roof in preparation for sealing \nEaster Egg Hunt & Potluck – 11 AM \nAfter the work party\, we’ll continue the fun with our annual Easter Egg Hunt and potluck! The club will be providing ham\, so please bring a side dish to share. \nIf you’re bringing children\, please bring half a dozen candy-filled or hard-boiled eggs per child to contribute to the hunt. Members and their invited guests are welcome! \nWe appreciate your help in keeping our club in great shape and look forward to celebrating together. See you there!
URL:https://southseattlesaddleclub.com/event/spring-work-party-annual-easter-egg-hunt/
LOCATION:South Seattle Saddle Club\, 22740 S.E. 228th St.\, Maple Valley\, WA\, 98038\, United States
CATEGORIES:Member Work Party,Social Events
ATTACH;FMTTYPE=image/png:https://southseattlesaddleclub.com/wp-content/uploads/2025/04/Screenshot-2025-04-01-at-4.58.57 PM.png
ORGANIZER;CN="Crystal Polzin":MAILTO:cpolzin79@hotmail.com
END:VEVENT
BEGIN:VEVENT
DTSTART;TZID=America/Los_Angeles:20240608T073000
DTEND;TZID=America/Los_Angeles:20240608T120000
DTSTAMP:20260423T123217
CREATED:20240529T015319Z
LAST-MODIFIED:20240531T000719Z
UID:1149-1717831800-1717848000@southseattlesaddleclub.com
SUMMARY:Maple Valley Days Parade
DESCRIPTION:Join South Seattle Saddle Club Saturday\, June 8 on our float or on your parade safe horse! \nIf you’re interested in joining the fun\, please respond to parade post on SSSC private Facebook page
URL:https://southseattlesaddleclub.com/event/maple-valley-days-parade/
LOCATION:South Seattle Saddle Club\, 22740 S.E. 228th St.\, Maple Valley\, WA\, 98038\, United States
CATEGORIES:Social Events
ATTACH;FMTTYPE=image/jpeg:https://southseattlesaddleclub.com/wp-content/uploads/2024/05/fno_event_51723_image_w480_h271.jpg
ORGANIZER;CN="Crystal Polzin":MAILTO:cpolzin79@hotmail.com
END:VEVENT
BEGIN:VEVENT
DTSTART;TZID=UTC:20240309T110000
DTEND;TZID=UTC:20240309T130000
DTSTAMP:20260423T123217
CREATED:20240129T022213Z
LAST-MODIFIED:20240228T055259Z
UID:940-1709982000-1709989200@southseattlesaddleclub.com
SUMMARY:2024 SSSC Annual Easter Egg Hunt
DESCRIPTION:Join us for SSSC Annual Easter Egg Hunt on Saturday\, March 9 at 11am. This is a potluck\, so please bring a side dish and the club will provide the ham. All members and guests welcome. Please bring a half dozen candy filled eggs per child. We look forward to celebrating this SSSC Easter tradition with everyone!
URL:https://southseattlesaddleclub.com/event/2024-sssc-annual-easter-egg-hunt/
LOCATION:South Seattle Saddle Club\, 22740 S.E. 228th St.\, Maple Valley\, WA\, 98038\, United States
CATEGORIES:Social Events
ATTACH;FMTTYPE=image/png:https://southseattlesaddleclub.com/wp-content/uploads/2024/01/Screenshot-2024-01-28-at-10.20.29 AM.png
ORGANIZER;CN="Bonnie Valdez":MAILTO:blv9024@gmail.com
END:VEVENT
BEGIN:VEVENT
DTSTART;TZID=UTC:20221022T160000
DTEND;TZID=UTC:20221022T190000
DTSTAMP:20260423T123217
CREATED:20221011T054700Z
LAST-MODIFIED:20221011T054700Z
UID:603-1666454400-1666465200@southseattlesaddleclub.com
SUMMARY:SSSC Halloween Party
DESCRIPTION:Come all ghost and ghouls\, Saturday\, October 22 at South Seattle Saddle Club for chili dogs\, games\, bonfire and a very spooky trail walk! \nThis is a members only event\, but we encourage everyone to bring their friends and family! No horses this year\, but costumes are a must!
URL:https://southseattlesaddleclub.com/event/sssc-halloween-party/
LOCATION:South Seattle Saddle Club\, 22740 S.E. 228th St.\, Maple Valley\, WA\, 98038\, United States
CATEGORIES:Social Events
ATTACH;FMTTYPE=image/png:https://southseattlesaddleclub.com/wp-content/uploads/2022/10/Orange-and-Yellow-Wicked-Cute-Halloween-Flyer-1.png
ORGANIZER;CN="Bonnie Valdez":MAILTO:blv9024@gmail.com
END:VEVENT
BEGIN:VEVENT
DTSTART;TZID=UTC:20221001T140000
DTEND;TZID=UTC:20221001T180000
DTSTAMP:20260423T123217
CREATED:20220909T042148Z
LAST-MODIFIED:20220909T054108Z
UID:557-1664632800-1664647200@southseattlesaddleclub.com
SUMMARY:End of Season Work Party + Beef BBQ
DESCRIPTION:It’s been an awesome 2022 Season! Congrats to all our SSSC Riders that represented us so well at State Finals and Interstate! \nSadly\, it’s that time again and we need all hands on deck to seal everything up for winter. Please join us Saturday October 1\, 2022 at 10am for the end of season work party\, followed by the annual Beef BBQ at 2pm (thank you Bonnie Valdez for bringing it back!). \nThe club will be providing the beef\, so we encourage everyone to bring a side dish. Bonnie has some fun games planned along with a bonfire and camping for those that want to make a night of it. \nMembers and guests are invited\, so bring your friends and family! \nHope to see you all there.
URL:https://southseattlesaddleclub.com/event/end-of-season-work-party-beef-bbq/
LOCATION:South Seattle Saddle Club\, 22740 S.E. 228th St.\, Maple Valley\, WA\, 98038\, United States
CATEGORIES:Member Work Party,Social Events
ATTACH;FMTTYPE=image/png:https://southseattlesaddleclub.com/wp-content/uploads/2022/09/Screen-Shot-2022-09-08-at-2.11.42-PM.png
ORGANIZER;CN="Bonnie Valdez":MAILTO:blv9024@gmail.com
END:VEVENT
BEGIN:VEVENT
DTSTART;VALUE=DATE:20220616
DTEND;VALUE=DATE:20220620
DTSTAMP:20260423T123217
CREATED:20220428T042923Z
LAST-MODIFIED:20220428T042923Z
UID:231-1655337600-1655683199@southseattlesaddleclub.com
SUMMARY:SSSC Camp-Out
DESCRIPTION:We are so excited to bring back the historical South Seattle Saddle Club Members Camp-Out! Though we have decided not to include horses this year\, we do encourage our members to invite their friends and family. Enjoy games\, capture the flag\, bonfire\, drive-in movie and a potluck brunch for dad. We ask all that attend to please bring a side dish to include in the potluck. We can’t wait to get together and enjoy each other’s families. Finally!
URL:https://southseattlesaddleclub.com/event/club-campout/
LOCATION:South Seattle Saddle Club\, 22740 S.E. 228th St.\, Maple Valley\, WA\, 98038\, United States
CATEGORIES:Social Events
ATTACH;FMTTYPE=image/jpeg:https://southseattlesaddleclub.com/wp-content/uploads/2022/04/camp-out.jpg
ORGANIZER;CN="Bonnie Valdez":MAILTO:blv9024@gmail.com
END:VEVENT
END:VCALENDAR