BEGIN:VCALENDAR
VERSION:2.0
PRODID:-//South Seattle Saddle Club - ECPv6.15.20//NONSGML v1.0//EN
CALSCALE:GREGORIAN
METHOD:PUBLISH
X-WR-CALNAME:South Seattle Saddle Club
X-ORIGINAL-URL:https://southseattlesaddleclub.com
X-WR-CALDESC:Events for South Seattle Saddle Club
REFRESH-INTERVAL;VALUE=DURATION:PT1H
X-Robots-Tag:noindex
X-PUBLISHED-TTL:PT1H
BEGIN:VTIMEZONE
TZID:America/Los_Angeles
BEGIN:DAYLIGHT
TZOFFSETFROM:-0800
TZOFFSETTO:-0700
TZNAME:PDT
DTSTART:20250309T100000
END:DAYLIGHT
BEGIN:STANDARD
TZOFFSETFROM:-0700
TZOFFSETTO:-0800
TZNAME:PST
DTSTART:20251102T090000
END:STANDARD
BEGIN:DAYLIGHT
TZOFFSETFROM:-0800
TZOFFSETTO:-0700
TZNAME:PDT
DTSTART:20260308T100000
END:DAYLIGHT
BEGIN:STANDARD
TZOFFSETFROM:-0700
TZOFFSETTO:-0800
TZNAME:PST
DTSTART:20261101T090000
END:STANDARD
BEGIN:DAYLIGHT
TZOFFSETFROM:-0800
TZOFFSETTO:-0700
TZNAME:PDT
DTSTART:20270314T100000
END:DAYLIGHT
BEGIN:STANDARD
TZOFFSETFROM:-0700
TZOFFSETTO:-0800
TZNAME:PST
DTSTART:20271107T090000
END:STANDARD
END:VTIMEZONE
BEGIN:VEVENT
DTSTART;TZID=America/Los_Angeles:20260530T080000
DTEND;TZID=America/Los_Angeles:20260530T170000
DTSTAMP:20260423T110132
CREATED:20260210T020358Z
LAST-MODIFIED:20260210T020358Z
UID:1861-1780128000-1780160400@southseattlesaddleclub.com
SUMMARY:Play Day 2026 Series Opener
DESCRIPTION:Events: TBD \nFees: \nBuckeroo/Leadline: $25 | Members: $35 | Non-members: $45 | Member Family (3+): $80 \n  \nAge Divisions: \nBeginner/Leadline: All Ages | Buckeroo: 8 & under | Junior: 9-13 | Intermediate: 14-18 | Senior: 19 and over \n  \nDaily Highpoint Awards! Toy chest and ribbons for Buckeroo/Leadline! \nGates open at 8am \nClick here for Play Day rules and more info >>
URL:https://southseattlesaddleclub.com/event/play-day-2026-series-opener/
LOCATION:South Seattle Saddle Club\, 22740 S.E. 228th St.\, Maple Valley\, WA\, 98038\, United States
CATEGORIES:Play Days
ATTACH;FMTTYPE=image/png:https://southseattlesaddleclub.com/wp-content/uploads/2026/02/Screenshot-2026-02-09-at-6.02.31-PM.png
ORGANIZER;CN="Bonnie Valdez":MAILTO:blv9024@gmail.com
END:VEVENT
BEGIN:VEVENT
DTSTART;TZID=America/Los_Angeles:20260613T080000
DTEND;TZID=America/Los_Angeles:20260613T170000
DTSTAMP:20260423T110132
CREATED:20260210T020556Z
LAST-MODIFIED:20260210T020556Z
UID:1864-1781337600-1781370000@southseattlesaddleclub.com
SUMMARY:Play Day 2026 Series
DESCRIPTION:Events: TBD \nFees: \nBuckeroo/Leadline: $25 | Members: $35 | Non-members: $45 | Member Family (3+): $80 \n  \nAge Divisions: \nBeginner/Leadline: All Ages | Buckeroo: 8 & under | Junior: 9-13 | Intermediate: 14-18 | Senior: 19 and over \n  \nDaily Highpoint Awards! Toy chest and ribbons for Buckeroo/Leadline! \nGates open at 8am \nClick here for Play Day rules and more info >>
URL:https://southseattlesaddleclub.com/event/play-day-2026-series/
LOCATION:South Seattle Saddle Club\, 22740 S.E. 228th St.\, Maple Valley\, WA\, 98038\, United States
CATEGORIES:Play Days
ATTACH;FMTTYPE=image/png:https://southseattlesaddleclub.com/wp-content/uploads/2026/02/Screenshot-2026-02-09-at-6.02.31-PM.png
ORGANIZER;CN="Bonnie Valdez":MAILTO:blv9024@gmail.com
END:VEVENT
BEGIN:VEVENT
DTSTART;TZID=America/Los_Angeles:20260627T090000
DTEND;TZID=America/Los_Angeles:20260627T170000
DTSTAMP:20260423T110132
CREATED:20260210T022359Z
LAST-MODIFIED:20260210T022359Z
UID:1882-1782550800-1782579600@southseattlesaddleclub.com
SUMMARY:PSHA Weekend - Saturday
DESCRIPTION:Join us for South Seattle Saddle Club’s PSHA show weekend\, June 27-28! This is a 2 day event\, so please come and enjoy the grounds and bring your campers. Cook shack will be open for breakfast and lunch. \nGates:\n12pm Friday\n9am Saturday\n9am Sunday \nFees:\n$3.50 per ride\n$6.00 jackpot with 50% payback\nBuckaroos $2.25 per ride \nArena fee $5 per horse.\n*We accept credit\, cash and check \nPSHA Members:\nBe sure you’ve registered yourself and your horse prior to event. Both numbers are to be provided to judges before each event. \nNot sure if you’ve registered yet?\nVisit the official PSHA website to look up rider and horse numbers\, or to register. \nPro Tip! Write both numbers on your arm! This is especially useful for buckeroos. \nNon-Members:\nNot planning to register with PSHA and just want to ride for fun? No problem. Just sign up at the office as an X-Rider on the day of the event. You will receive a day number to ride the events. Your times will not count towards PSHA finals. \nRace Order\nKeyrace\, Keyhole\, Poles\, Team poles\, Flags\, Team flags\, 2 man 3 barrel\, Team baton\, Bareback relay\, Figure 8\, Cal stake\, 2 man stake\, Barrels\, Rescue race\, Cowhide
URL:https://southseattlesaddleclub.com/event/psha-weekend-saturday-2/
LOCATION:South Seattle Saddle Club\, 22740 S.E. 228th St.\, Maple Valley\, WA\, 98038\, United States
CATEGORIES:Play Days
ATTACH;FMTTYPE=image/jpeg:https://southseattlesaddleclub.com/wp-content/uploads/2024/01/psha.jpg
ORGANIZER;CN="Sarah Sutcliffe":MAILTO:sarahrsutcliffe@gmail.com
END:VEVENT
BEGIN:VEVENT
DTSTART;TZID=America/Los_Angeles:20260801T080000
DTEND;TZID=America/Los_Angeles:20260801T170000
DTSTAMP:20260423T110132
CREATED:20260210T020716Z
LAST-MODIFIED:20260210T020716Z
UID:1866-1785571200-1785603600@southseattlesaddleclub.com
SUMMARY:Play Day 2026 Series
DESCRIPTION:Events: TBD \nFees: \nBuckeroo/Leadline: $25 | Members: $35 | Non-members: $45 | Member Family (3+): $80 \n  \nAge Divisions: \nBeginner/Leadline: All Ages | Buckeroo: 8 & under | Junior: 9-13 | Intermediate: 14-18 | Senior: 19 and over \n  \nDaily Highpoint Awards! Toy chest and ribbons for Buckeroo/Leadline! \nGates open at 8am \nClick here for Play Day rules and more info >>
URL:https://southseattlesaddleclub.com/event/play-day-2026-series-2/
LOCATION:South Seattle Saddle Club\, 22740 S.E. 228th St.\, Maple Valley\, WA\, 98038\, United States
CATEGORIES:Play Days
ATTACH;FMTTYPE=image/png:https://southseattlesaddleclub.com/wp-content/uploads/2026/02/Screenshot-2026-02-09-at-6.02.31-PM.png
ORGANIZER;CN="Bonnie Valdez":MAILTO:blv9024@gmail.com
END:VEVENT
BEGIN:VEVENT
DTSTART;TZID=America/Los_Angeles:20260802T080000
DTEND;TZID=America/Los_Angeles:20260802T080000
DTSTAMP:20260423T110132
CREATED:20260210T020813Z
LAST-MODIFIED:20260210T021544Z
UID:1868-1785657600-1785657600@southseattlesaddleclub.com
SUMMARY:Play Day 2026 Series
DESCRIPTION:Events: TBD \nFees: \nBuckeroo/Leadline: $25 | Members: $35 | Non-members: $45 | Member Family (3+): $80 \n  \nAge Divisions: \nBeginner/Leadline: All Ages | Buckeroo: 8 & under | Junior: 9-13 | Intermediate: 14-18 | Senior: 19 and over \n  \nDaily Highpoint Awards! Toy chest and ribbons for Buckeroo/Leadline! \nGates open at 8am \nClick here for Play Day rules and more info >>
URL:https://southseattlesaddleclub.com/event/play-day-2026-series-3/
LOCATION:South Seattle Saddle Club\, 22740 S.E. 228th St.\, Maple Valley\, WA\, 98038\, United States
CATEGORIES:Play Days
ATTACH;FMTTYPE=image/png:https://southseattlesaddleclub.com/wp-content/uploads/2026/02/Screenshot-2026-02-09-at-6.02.31-PM.png
ORGANIZER;CN="Bonnie Valdez":MAILTO:blv9024@gmail.com
END:VEVENT
BEGIN:VEVENT
DTSTART;TZID=America/Los_Angeles:20260815T080000
DTEND;TZID=America/Los_Angeles:20260815T170000
DTSTAMP:20260423T110132
CREATED:20260210T021056Z
LAST-MODIFIED:20260210T021056Z
UID:1870-1786780800-1786813200@southseattlesaddleclub.com
SUMMARY:Play Day 2026 Series
DESCRIPTION:Events: TBD \nFees: \nBuckeroo/Leadline: $25 | Members: $35 | Non-members: $45 | Member Family (3+): $80 \n  \nAge Divisions: \nBeginner/Leadline: All Ages | Buckeroo: 8 & under | Junior: 9-13 | Intermediate: 14-18 | Senior: 19 and over \n  \nDaily Highpoint Awards! Toy chest and ribbons for Buckeroo/Leadline! \nGates open at 8am \nClick here for Play Day rules and more info >>
URL:https://southseattlesaddleclub.com/event/play-day-2026-series-4/
LOCATION:South Seattle Saddle Club\, 22740 S.E. 228th St.\, Maple Valley\, WA\, 98038\, United States
CATEGORIES:Play Days
ATTACH;FMTTYPE=image/png:https://southseattlesaddleclub.com/wp-content/uploads/2026/02/Screenshot-2026-02-09-at-6.02.31-PM.png
ORGANIZER;CN="Bonnie Valdez":MAILTO:blv9024@gmail.com
END:VEVENT
BEGIN:VEVENT
DTSTART;TZID=America/Los_Angeles:20260816T080000
DTEND;TZID=America/Los_Angeles:20260816T170000
DTSTAMP:20260423T110132
CREATED:20260210T021247Z
LAST-MODIFIED:20260210T021316Z
UID:1873-1786867200-1786899600@southseattlesaddleclub.com
SUMMARY:Play Day 2026 Series
DESCRIPTION:Events: TBD \nFees: \nBuckeroo/Leadline: $25 | Members: $35 | Non-members: $45 | Member Family (3+): $80 \n  \nAge Divisions: \nBeginner/Leadline: All Ages | Buckeroo: 8 & under | Junior: 9-13 | Intermediate: 14-18 | Senior: 19 and over \n  \nDaily Highpoint Awards! Toy chest and ribbons for Buckeroo/Leadline! \nGates open at 8am \nClick here for Play Day rules and more info >>
URL:https://southseattlesaddleclub.com/event/play-day-2026-series-5/
LOCATION:South Seattle Saddle Club\, 22740 S.E. 228th St.\, Maple Valley\, WA\, 98038\, United States
CATEGORIES:Play Days
ATTACH;FMTTYPE=image/png:https://southseattlesaddleclub.com/wp-content/uploads/2026/02/Screenshot-2026-02-09-at-6.02.31-PM.png
ORGANIZER;CN="Bonnie Valdez":MAILTO:blv9024@gmail.com
END:VEVENT
BEGIN:VEVENT
DTSTART;TZID=America/Los_Angeles:20260912T080000
DTEND;TZID=America/Los_Angeles:20260912T170000
DTSTAMP:20260423T110132
CREATED:20260210T021650Z
LAST-MODIFIED:20260210T021650Z
UID:1876-1789200000-1789232400@southseattlesaddleclub.com
SUMMARY:Play Day 2026 Series
DESCRIPTION:Events: TBD \nFees: \nBuckeroo/Leadline: $25 | Members: $35 | Non-members: $45 | Member Family (3+): $80 \n  \nAge Divisions: \nBeginner/Leadline: All Ages | Buckeroo: 8 & under | Junior: 9-13 | Intermediate: 14-18 | Senior: 19 and over \n  \nDaily Highpoint Awards! Toy chest and ribbons for Buckeroo/Leadline! \nGates open at 8am \nClick here for Play Day rules and more info >>
URL:https://southseattlesaddleclub.com/event/play-day-2026-series-6/
LOCATION:South Seattle Saddle Club\, 22740 S.E. 228th St.\, Maple Valley\, WA\, 98038\, United States
CATEGORIES:Play Days
ATTACH;FMTTYPE=image/png:https://southseattlesaddleclub.com/wp-content/uploads/2026/02/Screenshot-2026-02-09-at-6.02.31-PM.png
ORGANIZER;CN="Bonnie Valdez":MAILTO:blv9024@gmail.com
END:VEVENT
END:VCALENDAR