BEGIN:VCALENDAR
VERSION:2.0
PRODID:-//South Seattle Saddle Club - ECPv6.15.20//NONSGML v1.0//EN
CALSCALE:GREGORIAN
METHOD:PUBLISH
X-ORIGINAL-URL:https://southseattlesaddleclub.com
X-WR-CALDESC:Events for South Seattle Saddle Club
REFRESH-INTERVAL;VALUE=DURATION:PT1H
X-Robots-Tag:noindex
X-PUBLISHED-TTL:PT1H
BEGIN:VTIMEZONE
TZID:America/Los_Angeles
BEGIN:DAYLIGHT
TZOFFSETFROM:-0800
TZOFFSETTO:-0700
TZNAME:PDT
DTSTART:20230312T100000
END:DAYLIGHT
BEGIN:STANDARD
TZOFFSETFROM:-0700
TZOFFSETTO:-0800
TZNAME:PST
DTSTART:20231105T090000
END:STANDARD
BEGIN:DAYLIGHT
TZOFFSETFROM:-0800
TZOFFSETTO:-0700
TZNAME:PDT
DTSTART:20240310T100000
END:DAYLIGHT
BEGIN:STANDARD
TZOFFSETFROM:-0700
TZOFFSETTO:-0800
TZNAME:PST
DTSTART:20241103T090000
END:STANDARD
BEGIN:DAYLIGHT
TZOFFSETFROM:-0800
TZOFFSETTO:-0700
TZNAME:PDT
DTSTART:20250309T100000
END:DAYLIGHT
BEGIN:STANDARD
TZOFFSETFROM:-0700
TZOFFSETTO:-0800
TZNAME:PST
DTSTART:20251102T090000
END:STANDARD
BEGIN:DAYLIGHT
TZOFFSETFROM:-0800
TZOFFSETTO:-0700
TZNAME:PDT
DTSTART:20260308T100000
END:DAYLIGHT
BEGIN:STANDARD
TZOFFSETFROM:-0700
TZOFFSETTO:-0800
TZNAME:PST
DTSTART:20261101T090000
END:STANDARD
END:VTIMEZONE
BEGIN:VTIMEZONE
TZID:UTC
BEGIN:STANDARD
TZOFFSETFROM:+0000
TZOFFSETTO:+0000
TZNAME:UTC
DTSTART:20210101T000000
END:STANDARD
END:VTIMEZONE
BEGIN:VEVENT
DTSTART;TZID=America/Los_Angeles:20250816T080000
DTEND;TZID=America/Los_Angeles:20250817T170000
DTSTAMP:20260423T123234
CREATED:20250307T005420Z
LAST-MODIFIED:20250307T005420Z
UID:1461-1755331200-1755450000@southseattlesaddleclub.com
SUMMARY:ETS Obstacle Obstacle Course Challenge
DESCRIPTION:8/16 Trinity Trail In-Hand Challenge\, Trinity Trail Obstacle Course Challenge \n8/17 Trinity Trail Obstacle Course Challenge \nIn Hand (IH) – a dismounted event in an arena/field\, halter and lead rope preferred. All equines welcome – any size\, breed\, and age. \nObstacle Course (OC) – a mounted event in an arena/field. A saddle (treeless included) and headstall with reins are required. All riding disciplines are welcome. \nMore info
URL:https://southseattlesaddleclub.com/event/ets-obstacle-obstacle-course-challenge/
LOCATION:South Seattle Saddle Club\, 22740 S.E. 228th St.\, Maple Valley\, WA\, 98038\, United States
CATEGORIES:Other Equine Events
ATTACH;FMTTYPE=image/png:https://southseattlesaddleclub.com/wp-content/uploads/2024/03/Screenshot-2024-03-20-at-1.31.15 PM.png
ORGANIZER;CN="Vickie Sheehan Zettle":MAILTO:vickiesheehan@msn.com
END:VEVENT
BEGIN:VEVENT
DTSTART;TZID=America/Los_Angeles:20250802T080000
DTEND;TZID=America/Los_Angeles:20250803T170000
DTSTAMP:20260423T123234
CREATED:20250402T005700Z
LAST-MODIFIED:20250418T032314Z
UID:1521-1754121600-1754240400@southseattlesaddleclub.com
SUMMARY:Competitive Mounted Orienteering Event
DESCRIPTION:Come out and try “the thinking horse sport”….Competitive Mounted Orienteering! Learn new trails\, explore new places and meet nice people while having fun with your horse! \nCompetitive Mounted Orienteering is a nonprofit organization intended to be a safe\, inexpensive and fun equine activity for all riders. Conducted in such a manner as to both encourage competition among those seeking a competitive event and to encourage casual\, family style riding for those wishing a less challenging event. Competitors may ride single or in teams. \nC.M.O. has often been described as a “mounted treasure hunt”. Event organizers provide maps and course outlines. Participants furnish their own mounts and compasses. Using these tools\, riders search for designated “objective stations” (paper plates with letters to be recorded to prove they were found) inside a 3/4 mile circled area on the event map. Clues for each station are listed on the back of the map with intersecting compass bearings pointing at the hidden plate. The objective is to find all the hidden plates and record the letters on the plates in the shortest amount of time. Riders travel at their own pace and determine which stations to find in any order. \nEach event is divided into long (10 Objectives) and short (5 Objectives) course divisions. Typical rides can cover 5 to 25 miles. Riders accumulate points for annual awards and ribbons are awarded at each ride through 6th place on the long course and 3rd place on the short course. \nSpring and summer rides are held on Saturday and Sunday with a potluck dinner and campfire Saturday nights to hand out ribbons and to visit and laugh about strategies that did or didn’t work. \nYou can give it a try as a day member for $5 (insurance fee) plus the regular members ride fee (about $15) per day. Annual membership dues are $40 (Families) or $25 (Individual)plus $5.00 for Washington State dues. Having a National and State membership qualifies each rider and their horse for lifetime awards. All breeds and disciplines are WELCOME!
URL:https://southseattlesaddleclub.com/event/competitive-mounted-orienteering-event-2/
LOCATION:South Seattle Saddle Club\, 22740 S.E. 228th St.\, Maple Valley\, WA\, 98038\, United States
CATEGORIES:Other Equine Events
ATTACH;FMTTYPE=image/jpeg:https://southseattlesaddleclub.com/wp-content/uploads/2024/07/wacmo-logo_med-1.jpg
ORGANIZER;CN="Sandy Grimes":MAILTO:rst_sandy@hotmail.com
END:VEVENT
BEGIN:VEVENT
DTSTART;TZID=America/Los_Angeles:20250628T080000
DTEND;TZID=America/Los_Angeles:20250629T170000
DTSTAMP:20260423T123234
CREATED:20250307T003955Z
LAST-MODIFIED:20250307T005847Z
UID:1457-1751097600-1751216400@southseattlesaddleclub.com
SUMMARY:Trinity Trail Ranch Riding Benefit Clinic & Show
DESCRIPTION:Elevate your skills at our Ranch Riding Novice – Intermediate Clinic. This clinic is perfect for those looking to learn or refine their technique\, enhance their confidence\, and add more precision to their maneuvers. \nDownload Flyer \nMore info
URL:https://southseattlesaddleclub.com/event/trinity-trail-ranch-riding-benefit-clinic-show/
LOCATION:South Seattle Saddle Club\, 22740 S.E. 228th St.\, Maple Valley\, WA\, 98038\, United States
CATEGORIES:Other Equine Events
ATTACH;FMTTYPE=image/png:https://southseattlesaddleclub.com/wp-content/uploads/2025/03/Screenshot-2025-03-06-at-4.56.18 PM.png
ORGANIZER;CN="Vickie Sheehan Zettle":MAILTO:vickiesheehan@msn.com
END:VEVENT
BEGIN:VEVENT
DTSTART;TZID=America/Los_Angeles:20250531T080000
DTEND;TZID=America/Los_Angeles:20250601T170000
DTSTAMP:20260423T123234
CREATED:20250402T003549Z
LAST-MODIFIED:20250402T005353Z
UID:1517-1748678400-1748797200@southseattlesaddleclub.com
SUMMARY:ETS Trail Boss Summer Challenge
DESCRIPTION:Equine Trail Sports and Trinity Trail Events present \n‘Trail Boss Summer Challenge’ \nSaturday 9am: Trinity Trail In-Hand Challenge \nSaturday 1pm: Trinity Trail Events Obstacle Course Challenge \nSunday 9am: Trinity Trail Events Obstacle Course Challenge \nMore Info | Register Here \n 
URL:https://southseattlesaddleclub.com/event/ets-trail-boss-summer-challenge/
LOCATION:South Seattle Saddle Club\, 22740 S.E. 228th St.\, Maple Valley\, WA\, 98038\, United States
CATEGORIES:Other Equine Events
ATTACH;FMTTYPE=image/png:https://southseattlesaddleclub.com/wp-content/uploads/2024/03/Screenshot-2024-03-20-at-1.31.15 PM.png
ORGANIZER;CN="Vickie Sheehan Zettle":MAILTO:vickiesheehan@msn.com
END:VEVENT
BEGIN:VEVENT
DTSTART;VALUE=DATE:20240928
DTEND;VALUE=DATE:20240930
DTSTAMP:20260423T123234
CREATED:20240320T204231Z
LAST-MODIFIED:20240320T204231Z
UID:985-1727481600-1727654399@southseattlesaddleclub.com
SUMMARY:Equine Trail Events
DESCRIPTION:Come join us for obstacle trail challenges at SSSC! Trinity Trail Events is hosting 3 event weekends at the club and a buckle series tournament with four buckles – one of which will be for SSSC Members only!  \nThese events are through Equine Trail Sports and annual membership is $40 for adults and FREE for youth 22 and under! Your points from ETS rids accumulate towards their lifetime awards programs and eligible tournaments. \nIf you have any questions or want to learn more about the events\, please contact Vickie Sheehan Zettle at trinitytrailevents@gmail.com.
URL:https://southseattlesaddleclub.com/event/equine-trail-events/
LOCATION:South Seattle Saddle Club\, 22740 S.E. 228th St.\, Maple Valley\, WA\, 98038\, United States
CATEGORIES:Other Equine Events
ATTACH;FMTTYPE=image/png:https://southseattlesaddleclub.com/wp-content/uploads/2024/03/Screenshot-2024-03-20-at-1.31.15 PM.png
ORGANIZER;CN="Vickie Sheehan Zettle":MAILTO:vickiesheehan@msn.com
END:VEVENT
BEGIN:VEVENT
DTSTART;VALUE=DATE:20240817
DTEND;VALUE=DATE:20240819
DTSTAMP:20260423T123234
CREATED:20240320T203808Z
LAST-MODIFIED:20240320T204047Z
UID:983-1723852800-1724025599@southseattlesaddleclub.com
SUMMARY:Equine Trail Sports
DESCRIPTION:Come join us for obstacle trail challenges at SSSC! Trinity Trail Events is hosting 3 event weekends at the club and a buckle series tournament with four buckles – one of which will be for SSSC Members only!  \nThese events are through Equine Trail Sports and annual membership is $40 for adults and FREE for youth 22 and under! Your points from ETS rids accumulate towards their lifetime awards programs and eligible tournaments. \nIf you have any questions or want to learn more about the events\, please contact Vickie Sheehan Zettle at trinitytrailevents@gmail.com.
URL:https://southseattlesaddleclub.com/event/equine-trail-sports-2/
LOCATION:South Seattle Saddle Club\, 22740 S.E. 228th St.\, Maple Valley\, WA\, 98038\, United States
CATEGORIES:Other Equine Events
ATTACH;FMTTYPE=image/png:https://southseattlesaddleclub.com/wp-content/uploads/2024/03/Screenshot-2024-03-20-at-1.31.15 PM.png
ORGANIZER;CN="Vickie Sheehan Zettle":MAILTO:vickiesheehan@msn.com
END:VEVENT
BEGIN:VEVENT
DTSTART;VALUE=DATE:20240810
DTEND;VALUE=DATE:20240812
DTSTAMP:20260423T123234
CREATED:20240709T233215Z
LAST-MODIFIED:20240709T233215Z
UID:1170-1723248000-1723420799@southseattlesaddleclub.com
SUMMARY:Competitive Mounted Orienteering Event
DESCRIPTION:Come out and try “the thinking horse sport”….Competitive Mounted Orienteering! Learn new trails\, explore new places and meet nice people while having fun with your horse! \nCompetitive Mounted Orienteering is a nonprofit organization intended to be a safe\, inexpensive and fun equine activity for all riders. Conducted in such a manner as to both encourage competition among those seeking a competitive event and to encourage casual\, family style riding for those wishing a less challenging event. Competitors may ride single or in teams. \nC.M.O. has often been described as a “mounted treasure hunt”. Event organizers provide maps and course outlines. Participants furnish their own mounts and compasses. Using these tools\, riders search for designated “objective stations” (paper plates with letters to be recorded to prove they were found) inside a 3/4 mile circled area on the event map. Clues for each station are listed on the back of the map with intersecting compass bearings pointing at the hidden plate. The objective is to find all the hidden plates and record the letters on the plates in the shortest amount of time. Riders travel at their own pace and determine which stations to find in any order. \nEach event is divided into long (10 Objectives) and short (5 Objectives) course divisions. Typical rides can cover 5 to 25 miles. Riders accumulate points for annual awards and ribbons are awarded at each ride through 6th place on the long course and 3rd place on the short course. \nSpring and summer rides are held on Saturday and Sunday with a potluck dinner and campfire Saturday nights to hand out ribbons and to visit and laugh about strategies that did or didn’t work. \nYou can give it a try as a day member for $5 (insurance fee) plus the regular members ride fee (about $15) per day. Annual membership dues are $40 (Families) or $25 (Individual)plus $5.00 for Washington State dues. Having a National and State membership qualifies each rider and their horse for lifetime awards. All breeds and disciplines are WELCOME!
URL:https://southseattlesaddleclub.com/event/competitive-mounted-orienteering-event/
LOCATION:South Seattle Saddle Club\, 22740 S.E. 228th St.\, Maple Valley\, WA\, 98038\, United States
CATEGORIES:Other Equine Events
ATTACH;FMTTYPE=image/jpeg:https://southseattlesaddleclub.com/wp-content/uploads/2024/07/wacmo-logo_med-1.jpg
ORGANIZER;CN="Sandy Grimes":MAILTO:rst_sandy@hotmail.com
END:VEVENT
BEGIN:VEVENT
DTSTART;TZID=America/Los_Angeles:20240629T070000
DTEND;TZID=America/Los_Angeles:20240630T180000
DTSTAMP:20260423T123234
CREATED:20240320T203259Z
LAST-MODIFIED:20240320T203506Z
UID:979-1719644400-1719770400@southseattlesaddleclub.com
SUMMARY:Equine Trail Sports
DESCRIPTION:Come join us for obstacle trail challenges at SSSC! Trinity Trail Events is hosting 3 event weekends at the club and a buckle series tournament with four buckles – one of which will be for SSSC Members only!  \nThese events are through Equine Trail Sports and annual membership is $40 for adults and FREE for youth 22 and under! Your points from ETS rids accumulate towards their lifetime awards programs and eligible tournaments. \nIf you have any questions or want to learn more about the events\, please contact Vickie Sheehan Zettle at trinitytrailevents@gmail.com.
URL:https://southseattlesaddleclub.com/event/equine-trail-sports/
LOCATION:South Seattle Saddle Club\, 22740 S.E. 228th St.\, Maple Valley\, WA\, 98038\, United States
CATEGORIES:Other Equine Events
ATTACH;FMTTYPE=image/png:https://southseattlesaddleclub.com/wp-content/uploads/2024/03/Screenshot-2024-03-20-at-1.31.15 PM.png
ORGANIZER;CN="Vickie Sheehan Zettle":MAILTO:vickiesheehan@msn.com
END:VEVENT
BEGIN:VEVENT
DTSTART;VALUE=DATE:20230812
DTEND;VALUE=DATE:20230814
DTSTAMP:20260423T123234
CREATED:20230630T042442Z
LAST-MODIFIED:20230630T042442Z
UID:802-1691798400-1691971199@southseattlesaddleclub.com
SUMMARY:Washington State Competitive Mounted Orienteering
DESCRIPTION:C.M.O. has often been described as a “mounted treasure hunt”. Event organizers provide maps and course outlines. Participants furnish their own mounts and compasses. Using these tools\, riders search for designated “objective stations” (paper plates with letters to be recorded to prove they were found) inside a 3/4 mile circled area on the event map. Clues for each station are listed on the back of the map with intersecting compass bearings pointing at the hidden plate. The objective is to find all the hidden plates and record the letters on the plates in the shortest amount of time. Riders travel at their own pace and determine which stations to find in any order. More info
URL:https://southseattlesaddleclub.com/event/washington-state-competitive-mounted-orienteering/
LOCATION:South Seattle Saddle Club\, 22740 S.E. 228th St.\, Maple Valley\, WA\, 98038\, United States
CATEGORIES:Other Equine Events
ORGANIZER;CN="Sandy Grimes":MAILTO:rst_sandy@hotmail.com
END:VEVENT
BEGIN:VEVENT
DTSTART;TZID=UTC:20220917T080000
DTEND;TZID=UTC:20220917T170000
DTSTAMP:20260423T123234
CREATED:20220630T094908Z
LAST-MODIFIED:20220630T094908Z
UID:543-1663401600-1663434000@southseattlesaddleclub.com
SUMMARY:SSSC Playday
DESCRIPTION:Come one\, come all! South Seattle Saddle Club is thrilled to host a short Playday series this summer. Playdays offer a series of timed speed events consisting of rider\, horse\, pattern\, and a cheering crowd! Riders and horses of all ages\, sizes\, and experience level are welcome! Not a rider? Come on down and cheer or wear your boots and we’ll put you to work! This is a wonderful atmosphere and a perfect family event for all to participate in.\n\nEvents:\nTexas Rollback\, Fig 8\, Half 8\, Poles\, Barrels\n\n\n\nBarrel Time on lines offered after barrels-$5/minute\n\nFees:\n\n\n$35 all day for SSSC members\n$45 non members (includes haul in fee)\n$25 buckaroo/lead line/beginner (any age\, will ride abbreviated courses in our warm up arena for more controlled environment)\n*$10 haul if non member not participating in play day.\n\n\n\nAge groups:\nBuckaroo up to 8 years old\nJunior 8-13 years old\nIntermediate 14-17 years old\nSenior 18-35 years old\nSuper senior 36+\n\n\nAwards:\n\nRibbons per event\, daily high point per age group and treasure chest at end for kids!\n\n\n\n*Saturday night camping available- self penning
URL:https://southseattlesaddleclub.com/event/sssc-playday-2/
LOCATION:South Seattle Saddle Club\, 22740 S.E. 228th St.\, Maple Valley\, WA\, 98038\, United States
CATEGORIES:Other Equine Events
ATTACH;FMTTYPE=image/jpeg:https://southseattlesaddleclub.com/wp-content/uploads/2022/06/playdate2.jpg
ORGANIZER;CN="Bonnie Valdez":MAILTO:blv9024@gmail.com
END:VEVENT
BEGIN:VEVENT
DTSTART;TZID=UTC:20220910T100000
DTEND;TZID=UTC:20220910T170000
DTSTAMP:20260423T123234
CREATED:20220630T094510Z
LAST-MODIFIED:20220906T104227Z
UID:540-1662804000-1662829200@southseattlesaddleclub.com
SUMMARY:SSSC Playday
DESCRIPTION:Come one\, come all! South Seattle Saddle Club is thrilled to host a short Playday series this summer. Playdays offer a series of timed speed events consisting of rider\, horse\, pattern\, and a cheering crowd! Riders and horses of all ages\, sizes\, and experience level are welcome! Not a rider? Come on down and cheer or wear your boots and we’ll put you to work! This is a wonderful atmosphere and a perfect family event for all to participate in.\n\nEvents:\nPolo Turn\, BiWrangle\, Fig 8\, Poles\, Barrels\n\n\n\nBarrel Time on lines offered after barrels-$5/minute\n\nFees:\n\n\n$35 all day for SSSC members\n$45 non members (includes haul in fee)\n$25 buckaroo/lead line/beginner (any age\, will ride abbreviated courses in our warm up arena for more controlled environment)\n*$10 haul if non member not participating in play day.\n\n\n\nAge groups:\nBuckaroo up to 8 years old\nJunior 8-13 years old\nIntermediate 14-17 years old\nSenior 18-35 years old\nSuper senior 36+\n\n\nAwards:\n\nRibbons per event\, daily high point per age group and treasure chest at end for kids!\n\n\n\n*Saturday night camping available- self penning\n\n\nWe are looking for volunteers to help make the day a huge success!\nSign up here
URL:https://southseattlesaddleclub.com/event/sssc-playday/
LOCATION:South Seattle Saddle Club\, 22740 S.E. 228th St.\, Maple Valley\, WA\, 98038\, United States
CATEGORIES:Other Equine Events
ATTACH;FMTTYPE=image/jpeg:https://southseattlesaddleclub.com/wp-content/uploads/2022/06/290192291_10160388119140407_647600315976020529_n.jpg
ORGANIZER;CN="Bonnie Valdez":MAILTO:blv9024@gmail.com
END:VEVENT
BEGIN:VEVENT
DTSTART;TZID=UTC:20220806T100000
DTEND;TZID=UTC:20220806T170000
DTSTAMP:20260423T123234
CREATED:20220630T094230Z
LAST-MODIFIED:20220723T023200Z
UID:537-1659780000-1659805200@southseattlesaddleclub.com
SUMMARY:SSSC Playdate
DESCRIPTION:Come one\, come all! South Seattle Saddle Club is thrilled to host a short Playday series this summer. Playdays offer a series of timed speed events consisting of rider\, horse\, pattern\, and a cheering crowd! Riders and horses of all ages\, sizes\, and experience level are welcome! Not a rider? Come on down and cheer or wear your boots and we’ll put you to work! This is a wonderful atmosphere and a perfect family event for all to participate in.\n\nEvents:\nCal stake\, Fig 8 (not PSHA course)\, Poles\, Speed Barrels\, Barrel\n\n\n\nBarrel Time only times offered after barrels-$5/minute\n\nFees:\n\n\n$35 all day for SSSC members\n$45 non members (includes haul in fee)\n$25 buckaroo/lead line/beginner (any age\, will ride abbreviated courses in our warm up arena for more controlled environment)\n*$10 haul if non member not participating in play day.\n\n\n\nAge groups:\nBuckaroo up to 8 years old\nJunior 8-13 years old\nIntermediate 14-17 years old\nSenior 18-35 years old\nSuper senior 36+\n\n\nAwards:\n\nRibbons per event\, daily high point per age group and treasure chest at end for kids!\n\n\nPre-Register Now\n\n\n\n*Saturday night camping available- self penning
URL:https://southseattlesaddleclub.com/event/sssc-playdate/
LOCATION:South Seattle Saddle Club\, 22740 S.E. 228th St.\, Maple Valley\, WA\, 98038\, United States
CATEGORIES:Other Equine Events
ATTACH;FMTTYPE=image/jpeg:https://southseattlesaddleclub.com/wp-content/uploads/2022/06/playday.jpg
ORGANIZER;CN="Bonnie Valdez":MAILTO:blv9024@gmail.com
END:VEVENT
END:VCALENDAR