BEGIN:VCALENDAR
VERSION:2.0
PRODID:-//South Seattle Saddle Club - ECPv6.15.20//NONSGML v1.0//EN
CALSCALE:GREGORIAN
METHOD:PUBLISH
X-ORIGINAL-URL:https://southseattlesaddleclub.com
X-WR-CALDESC:Events for South Seattle Saddle Club
REFRESH-INTERVAL;VALUE=DURATION:PT1H
X-Robots-Tag:noindex
X-PUBLISHED-TTL:PT1H
BEGIN:VTIMEZONE
TZID:America/Los_Angeles
BEGIN:DAYLIGHT
TZOFFSETFROM:-0800
TZOFFSETTO:-0700
TZNAME:PDT
DTSTART:20240310T100000
END:DAYLIGHT
BEGIN:STANDARD
TZOFFSETFROM:-0700
TZOFFSETTO:-0800
TZNAME:PST
DTSTART:20241103T090000
END:STANDARD
BEGIN:DAYLIGHT
TZOFFSETFROM:-0800
TZOFFSETTO:-0700
TZNAME:PDT
DTSTART:20250309T100000
END:DAYLIGHT
BEGIN:STANDARD
TZOFFSETFROM:-0700
TZOFFSETTO:-0800
TZNAME:PST
DTSTART:20251102T090000
END:STANDARD
BEGIN:DAYLIGHT
TZOFFSETFROM:-0800
TZOFFSETTO:-0700
TZNAME:PDT
DTSTART:20260308T100000
END:DAYLIGHT
BEGIN:STANDARD
TZOFFSETFROM:-0700
TZOFFSETTO:-0800
TZNAME:PST
DTSTART:20261101T090000
END:STANDARD
END:VTIMEZONE
BEGIN:VEVENT
DTSTART;TZID=America/Los_Angeles:20250802T080000
DTEND;TZID=America/Los_Angeles:20250803T170000
DTSTAMP:20260424T015658
CREATED:20250402T005700Z
LAST-MODIFIED:20250418T032314Z
UID:1521-1754121600-1754240400@southseattlesaddleclub.com
SUMMARY:Competitive Mounted Orienteering Event
DESCRIPTION:Come out and try “the thinking horse sport”….Competitive Mounted Orienteering! Learn new trails\, explore new places and meet nice people while having fun with your horse! \nCompetitive Mounted Orienteering is a nonprofit organization intended to be a safe\, inexpensive and fun equine activity for all riders. Conducted in such a manner as to both encourage competition among those seeking a competitive event and to encourage casual\, family style riding for those wishing a less challenging event. Competitors may ride single or in teams. \nC.M.O. has often been described as a “mounted treasure hunt”. Event organizers provide maps and course outlines. Participants furnish their own mounts and compasses. Using these tools\, riders search for designated “objective stations” (paper plates with letters to be recorded to prove they were found) inside a 3/4 mile circled area on the event map. Clues for each station are listed on the back of the map with intersecting compass bearings pointing at the hidden plate. The objective is to find all the hidden plates and record the letters on the plates in the shortest amount of time. Riders travel at their own pace and determine which stations to find in any order. \nEach event is divided into long (10 Objectives) and short (5 Objectives) course divisions. Typical rides can cover 5 to 25 miles. Riders accumulate points for annual awards and ribbons are awarded at each ride through 6th place on the long course and 3rd place on the short course. \nSpring and summer rides are held on Saturday and Sunday with a potluck dinner and campfire Saturday nights to hand out ribbons and to visit and laugh about strategies that did or didn’t work. \nYou can give it a try as a day member for $5 (insurance fee) plus the regular members ride fee (about $15) per day. Annual membership dues are $40 (Families) or $25 (Individual)plus $5.00 for Washington State dues. Having a National and State membership qualifies each rider and their horse for lifetime awards. All breeds and disciplines are WELCOME!
URL:https://southseattlesaddleclub.com/event/competitive-mounted-orienteering-event-2/
LOCATION:South Seattle Saddle Club\, 22740 S.E. 228th St.\, Maple Valley\, WA\, 98038\, United States
CATEGORIES:Other Equine Events
ATTACH;FMTTYPE=image/jpeg:https://southseattlesaddleclub.com/wp-content/uploads/2024/07/wacmo-logo_med-1.jpg
ORGANIZER;CN="Sandy Grimes":MAILTO:rst_sandy@hotmail.com
END:VEVENT
END:VCALENDAR