BEGIN:VCALENDAR
VERSION:2.0
PRODID:-//South Seattle Saddle Club - ECPv6.15.20//NONSGML v1.0//EN
CALSCALE:GREGORIAN
METHOD:PUBLISH
X-ORIGINAL-URL:https://southseattlesaddleclub.com
X-WR-CALDESC:Events for South Seattle Saddle Club
REFRESH-INTERVAL;VALUE=DURATION:PT1H
X-Robots-Tag:noindex
X-PUBLISHED-TTL:PT1H
BEGIN:VTIMEZONE
TZID:America/Los_Angeles
BEGIN:DAYLIGHT
TZOFFSETFROM:-0800
TZOFFSETTO:-0700
TZNAME:PDT
DTSTART:20230312T100000
END:DAYLIGHT
BEGIN:STANDARD
TZOFFSETFROM:-0700
TZOFFSETTO:-0800
TZNAME:PST
DTSTART:20231105T090000
END:STANDARD
BEGIN:DAYLIGHT
TZOFFSETFROM:-0800
TZOFFSETTO:-0700
TZNAME:PDT
DTSTART:20240310T100000
END:DAYLIGHT
BEGIN:STANDARD
TZOFFSETFROM:-0700
TZOFFSETTO:-0800
TZNAME:PST
DTSTART:20241103T090000
END:STANDARD
BEGIN:DAYLIGHT
TZOFFSETFROM:-0800
TZOFFSETTO:-0700
TZNAME:PDT
DTSTART:20250309T100000
END:DAYLIGHT
BEGIN:STANDARD
TZOFFSETFROM:-0700
TZOFFSETTO:-0800
TZNAME:PST
DTSTART:20251102T090000
END:STANDARD
BEGIN:DAYLIGHT
TZOFFSETFROM:-0800
TZOFFSETTO:-0700
TZNAME:PDT
DTSTART:20260308T100000
END:DAYLIGHT
BEGIN:STANDARD
TZOFFSETFROM:-0700
TZOFFSETTO:-0800
TZNAME:PST
DTSTART:20261101T090000
END:STANDARD
END:VTIMEZONE
BEGIN:VTIMEZONE
TZID:UTC
BEGIN:STANDARD
TZOFFSETFROM:+0000
TZOFFSETTO:+0000
TZNAME:UTC
DTSTART:20210101T000000
END:STANDARD
END:VTIMEZONE
BEGIN:VEVENT
DTSTART;VALUE=DATE:20250816
DTEND;VALUE=DATE:20250817
DTSTAMP:20260423T123217
CREATED:20250523T202222Z
LAST-MODIFIED:20250523T202222Z
UID:1768-1755302400-1755388799@southseattlesaddleclub.com
SUMMARY:Pacer League Championship
DESCRIPTION:
URL:https://southseattlesaddleclub.com/event/pacer-league-championship/
LOCATION:South Seattle Saddle Club\, 22740 S.E. 228th St.\, Maple Valley\, WA\, 98038\, United States
CATEGORIES:Horseshoe Events
ATTACH;FMTTYPE=image/jpeg:https://southseattlesaddleclub.com/wp-content/uploads/2025/03/475815533_1028402429314324_2975175589995356130_n.jpg
ORGANIZER;CN="Randal Harris":MAILTO:randal.harris@icloud.com
END:VEVENT
BEGIN:VEVENT
DTSTART;VALUE=DATE:20250628
DTEND;VALUE=DATE:20250630
DTSTAMP:20260423T123217
CREATED:20250523T202027Z
LAST-MODIFIED:20250523T202027Z
UID:1766-1751068800-1751241599@southseattlesaddleclub.com
SUMMARY:Pacer League Annual Picnic
DESCRIPTION:
URL:https://southseattlesaddleclub.com/event/pacer-league-annual-picnic/
LOCATION:South Seattle Saddle Club\, 22740 S.E. 228th St.\, Maple Valley\, WA\, 98038\, United States
CATEGORIES:Horseshoe Events
ATTACH;FMTTYPE=image/jpeg:https://southseattlesaddleclub.com/wp-content/uploads/2025/03/475815533_1028402429314324_2975175589995356130_n.jpg
ORGANIZER;CN="Randal Harris":MAILTO:randal.harris@icloud.com
END:VEVENT
BEGIN:VEVENT
DTSTART;VALUE=DATE:20240720
DTEND;VALUE=DATE:20240722
DTSTAMP:20260423T123217
CREATED:20240313T054215Z
LAST-MODIFIED:20240320T053628Z
UID:965-1721433600-1721606399@southseattlesaddleclub.com
SUMMARY:Horseshoe Tournament
DESCRIPTION:Stay tuned for more info…
URL:https://southseattlesaddleclub.com/event/horseshoe-tournament-3/
LOCATION:South Seattle Saddle Club\, 22740 S.E. 228th St.\, Maple Valley\, WA\, 98038\, United States
CATEGORIES:Horseshoe Events
ATTACH;FMTTYPE=image/jpeg:https://southseattlesaddleclub.com/wp-content/uploads/2022/05/1948233_1435617023350877_1826516631_n.jpg
ORGANIZER;CN="Randal Harris":MAILTO:randal.harris@icloud.com
END:VEVENT
BEGIN:VEVENT
DTSTART;VALUE=DATE:20240629
DTEND;VALUE=DATE:20240701
DTSTAMP:20260423T123217
CREATED:20240313T054050Z
LAST-MODIFIED:20240320T053915Z
UID:963-1719619200-1719791999@southseattlesaddleclub.com
SUMMARY:Horseshoe Tournament
DESCRIPTION:Stay tuned for more info…
URL:https://southseattlesaddleclub.com/event/horseshoe-tournament-2/
LOCATION:South Seattle Saddle Club\, 22740 S.E. 228th St.\, Maple Valley\, WA\, 98038\, United States
CATEGORIES:Horseshoe Events
ATTACH;FMTTYPE=image/jpeg:https://southseattlesaddleclub.com/wp-content/uploads/2022/05/1948233_1435617023350877_1826516631_n.jpg
ORGANIZER;CN="Randal Harris":MAILTO:randal.harris@icloud.com
END:VEVENT
BEGIN:VEVENT
DTSTART;TZID=UTC:20220524T190000
DTEND;TZID=UTC:20220524T220000
DTSTAMP:20260423T123217
CREATED:20220504T055114Z
LAST-MODIFIED:20220504T055114Z
UID:469-1653418800-1653429600@southseattlesaddleclub.com
SUMMARY:Washington Horseshoe Pitching Association - Pace League Season Opener
DESCRIPTION:The Pace League is kicking off their 2022 Season! Be sure to have your South Seattle Saddle Club Liability Release forms as well as dues paid before you play.
URL:https://southseattlesaddleclub.com/event/washington-horseshoe-pitching-association-pace-league-season-opener/
LOCATION:South Seattle Saddle Club\, 22740 S.E. 228th St.\, Maple Valley\, WA\, 98038\, United States
CATEGORIES:Horseshoe Events
ATTACH;FMTTYPE=image/jpeg:https://southseattlesaddleclub.com/wp-content/uploads/2022/05/1948233_1435617023350877_1826516631_n.jpg
ORGANIZER;CN="Randal Harris":MAILTO:randal.harris@icloud.com
END:VEVENT
END:VCALENDAR