BEGIN:VCALENDAR
VERSION:2.0
PRODID:-//South Seattle Saddle Club - ECPv6.15.20//NONSGML v1.0//EN
CALSCALE:GREGORIAN
METHOD:PUBLISH
X-WR-CALNAME:South Seattle Saddle Club
X-ORIGINAL-URL:https://southseattlesaddleclub.com
X-WR-CALDESC:Events for South Seattle Saddle Club
REFRESH-INTERVAL;VALUE=DURATION:PT1H
X-Robots-Tag:noindex
X-PUBLISHED-TTL:PT1H
BEGIN:VTIMEZONE
TZID:America/Los_Angeles
BEGIN:DAYLIGHT
TZOFFSETFROM:-0800
TZOFFSETTO:-0700
TZNAME:PDT
DTSTART:20230312T100000
END:DAYLIGHT
BEGIN:STANDARD
TZOFFSETFROM:-0700
TZOFFSETTO:-0800
TZNAME:PST
DTSTART:20231105T090000
END:STANDARD
BEGIN:DAYLIGHT
TZOFFSETFROM:-0800
TZOFFSETTO:-0700
TZNAME:PDT
DTSTART:20240310T100000
END:DAYLIGHT
BEGIN:STANDARD
TZOFFSETFROM:-0700
TZOFFSETTO:-0800
TZNAME:PST
DTSTART:20241103T090000
END:STANDARD
BEGIN:DAYLIGHT
TZOFFSETFROM:-0800
TZOFFSETTO:-0700
TZNAME:PDT
DTSTART:20250309T100000
END:DAYLIGHT
BEGIN:STANDARD
TZOFFSETFROM:-0700
TZOFFSETTO:-0800
TZNAME:PST
DTSTART:20251102T090000
END:STANDARD
BEGIN:DAYLIGHT
TZOFFSETFROM:-0800
TZOFFSETTO:-0700
TZNAME:PDT
DTSTART:20260308T100000
END:DAYLIGHT
BEGIN:STANDARD
TZOFFSETFROM:-0700
TZOFFSETTO:-0800
TZNAME:PST
DTSTART:20261101T090000
END:STANDARD
END:VTIMEZONE
BEGIN:VTIMEZONE
TZID:UTC
BEGIN:STANDARD
TZOFFSETFROM:+0000
TZOFFSETTO:+0000
TZNAME:UTC
DTSTART:20210101T000000
END:STANDARD
END:VTIMEZONE
BEGIN:VEVENT
DTSTART;TZID=America/Los_Angeles:20250521T190000
DTEND;TZID=America/Los_Angeles:20250521T200000
DTSTAMP:20260423T152535
CREATED:20250221T170728Z
LAST-MODIFIED:20250221T170728Z
UID:1432-1747854000-1747857600@southseattlesaddleclub.com
SUMMARY:Monthly Membership Meeting
DESCRIPTION:Board Meeting 6pm | General Members Meeting 7pm | Youth Meeting 7pm \nMeeting will take place in the SSSC Club House. Youth meet at the SSSC Office. \nReview prior meeting minutes >>
URL:https://southseattlesaddleclub.com/event/monthly-membership-meeting-3/
LOCATION:South Seattle Saddle Club\, 22740 S.E. 228th St.\, Maple Valley\, WA\, 98038\, United States
CATEGORIES:Club Meetings
ATTACH;FMTTYPE=image/jpeg:https://southseattlesaddleclub.com/wp-content/uploads/2024/04/club-meeting.jpg
ORGANIZER;CN="Crystal Polzin":MAILTO:cpolzin79@hotmail.com
END:VEVENT
BEGIN:VEVENT
DTSTART;TZID=America/Los_Angeles:20250416T190000
DTEND;TZID=America/Los_Angeles:20250416T200000
DTSTAMP:20260423T152535
CREATED:20250221T170318Z
LAST-MODIFIED:20250222T042957Z
UID:1430-1744830000-1744833600@southseattlesaddleclub.com
SUMMARY:Monthly Membership Meeting
DESCRIPTION:Board Meeting 6pm | General Members Meeting 7pm | Youth Meeting 7pm \nMeeting will take place in the SSSC Club House. Youth meet at the SSSC Office. \nReview prior meeting minutes >>
URL:https://southseattlesaddleclub.com/event/monthly-membership-meeting-2/
LOCATION:South Seattle Saddle Club\, 22740 S.E. 228th St.\, Maple Valley\, WA\, 98038\, United States
CATEGORIES:Club Meetings
ATTACH;FMTTYPE=image/jpeg:https://southseattlesaddleclub.com/wp-content/uploads/2024/04/club-meeting.jpg
ORGANIZER;CN="Crystal Polzin":MAILTO:cpolzin79@hotmail.com
END:VEVENT
BEGIN:VEVENT
DTSTART;TZID=America/Los_Angeles:20250319T190000
DTEND;TZID=America/Los_Angeles:20250319T200000
DTSTAMP:20260423T152535
CREATED:20250221T170225Z
LAST-MODIFIED:20250221T170532Z
UID:1428-1742410800-1742414400@southseattlesaddleclub.com
SUMMARY:Monthly Membership Meeting
DESCRIPTION:Board Meeting 6pm | General Members Meeting 7pm | Youth Meeting 7pm \nMeeting will take place in the SSSC Club House. Youth meet at the SSSC Office. \nReview prior meeting minutes >>
URL:https://southseattlesaddleclub.com/event/monthly-membership-meeting/
LOCATION:South Seattle Saddle Club\, 22740 S.E. 228th St.\, Maple Valley\, WA\, 98038\, United States
CATEGORIES:Club Meetings
ATTACH;FMTTYPE=image/jpeg:https://southseattlesaddleclub.com/wp-content/uploads/2024/04/club-meeting.jpg
ORGANIZER;CN="Crystal Polzin":MAILTO:cpolzin79@hotmail.com
END:VEVENT
BEGIN:VEVENT
DTSTART;TZID=America/Los_Angeles:20250217T190000
DTEND;TZID=America/Los_Angeles:20250217T200000
DTSTAMP:20260423T152535
CREATED:20250211T201132Z
LAST-MODIFIED:20250211T201132Z
UID:1378-1739818800-1739822400@southseattlesaddleclub.com
SUMMARY:Monthly Members Meeting
DESCRIPTION:📅 Date: Monday\, February 17\n⏰ Time: 7:00 PM\n📍 Location: South Seattle Saddle Club Clubhouse \nPlease attend! This month we’ll be going over updates to our club Constitution and Bylaws. \nDownload the meeting agenda
URL:https://southseattlesaddleclub.com/event/monthly-members-meeting/
LOCATION:South Seattle Saddle Club\, 22740 S.E. 228th St.\, Maple Valley\, WA\, 98038\, United States
CATEGORIES:Club Meetings
ATTACH;FMTTYPE=image/jpeg:https://southseattlesaddleclub.com/wp-content/uploads/2024/04/club-meeting.jpg
ORGANIZER;CN="Lyndsey San Sebastian":MAILTO:lyndsey@horseandcoal.com
END:VEVENT
BEGIN:VEVENT
DTSTART;TZID=America/Los_Angeles:20240916T180000
DTEND;TZID=America/Los_Angeles:20240916T200000
DTSTAMP:20260423T152535
CREATED:20240415T201212Z
LAST-MODIFIED:20240415T201212Z
UID:1046-1726509600-1726516800@southseattlesaddleclub.com
SUMMARY:Board and Club Meeting
DESCRIPTION:Board/General meetings are held in the South Seattle Saddle Club clubhouse\, the 3rd Monday of each month unless otherwise directed. \nBoard Meeting 6pm | Youth Meeting: 6pm | General Meeting 7pm
URL:https://southseattlesaddleclub.com/event/board-and-club-meeting-4/
LOCATION:South Seattle Saddle Club\, 22740 S.E. 228th St.\, Maple Valley\, WA\, 98038\, United States
CATEGORIES:Club Meetings
ATTACH;FMTTYPE=image/jpeg:https://southseattlesaddleclub.com/wp-content/uploads/2024/04/club-meeting.jpg
ORGANIZER;CN="Rich Valdez":MAILTO:southseattlesaddleclub@gmail.com
END:VEVENT
BEGIN:VEVENT
DTSTART;TZID=America/Los_Angeles:20240819T180000
DTEND;TZID=America/Los_Angeles:20240819T200000
DTSTAMP:20260423T152535
CREATED:20240415T201045Z
LAST-MODIFIED:20240415T201045Z
UID:1044-1724090400-1724097600@southseattlesaddleclub.com
SUMMARY:Board and Club Meeting
DESCRIPTION:Board/General meetings are held in the South Seattle Saddle Club clubhouse\, the 3rd Monday of each month unless otherwise directed. \nBoard Meeting 6pm | Youth Meeting: 6pm | General Meeting 7pm
URL:https://southseattlesaddleclub.com/event/board-and-club-meeting-3/
LOCATION:South Seattle Saddle Club\, 22740 S.E. 228th St.\, Maple Valley\, WA\, 98038\, United States
CATEGORIES:Club Meetings
ATTACH;FMTTYPE=image/jpeg:https://southseattlesaddleclub.com/wp-content/uploads/2024/04/club-meeting.jpg
ORGANIZER;CN="Rich Valdez":MAILTO:southseattlesaddleclub@gmail.com
END:VEVENT
BEGIN:VEVENT
DTSTART;TZID=America/Los_Angeles:20240715T180000
DTEND;TZID=America/Los_Angeles:20240715T200000
DTSTAMP:20260423T152535
CREATED:20240415T200850Z
LAST-MODIFIED:20240415T200850Z
UID:1042-1721066400-1721073600@southseattlesaddleclub.com
SUMMARY:Board and Club Meeting
DESCRIPTION:Board/General meetings are held in the South Seattle Saddle Club clubhouse\, the 3rd Monday of each month unless otherwise directed. \nBoard Meeting 6pm | Youth Meeting: 6pm | General Meeting 7pm
URL:https://southseattlesaddleclub.com/event/board-and-club-meeting-2/
LOCATION:South Seattle Saddle Club\, 22740 S.E. 228th St.\, Maple Valley\, WA\, 98038\, United States
CATEGORIES:Club Meetings
ATTACH;FMTTYPE=image/jpeg:https://southseattlesaddleclub.com/wp-content/uploads/2024/04/club-meeting.jpg
ORGANIZER;CN="Rich Valdez":MAILTO:southseattlesaddleclub@gmail.com
END:VEVENT
BEGIN:VEVENT
DTSTART;TZID=America/Los_Angeles:20240617T180000
DTEND;TZID=America/Los_Angeles:20240617T200000
DTSTAMP:20260423T152535
CREATED:20240415T200723Z
LAST-MODIFIED:20240415T200920Z
UID:1040-1718647200-1718654400@southseattlesaddleclub.com
SUMMARY:Board and Club Meeting
DESCRIPTION:Board/General meetings are held in the South Seattle Saddle Club clubhouse\, the 3rd Monday of each month unless otherwise directed. \nBoard Meeting 6pm | Youth Meeting: 6pm | General Meeting 7pm
URL:https://southseattlesaddleclub.com/event/board-and-club-meeting/
LOCATION:South Seattle Saddle Club\, 22740 S.E. 228th St.\, Maple Valley\, WA\, 98038\, United States
CATEGORIES:Club Meetings
ATTACH;FMTTYPE=image/jpeg:https://southseattlesaddleclub.com/wp-content/uploads/2024/04/club-meeting.jpg
ORGANIZER;CN="Rich Valdez":MAILTO:southseattlesaddleclub@gmail.com
END:VEVENT
BEGIN:VEVENT
DTSTART;TZID=America/Los_Angeles:20240520T180000
DTEND;TZID=America/Los_Angeles:20240520T200000
DTSTAMP:20260423T152535
CREATED:20240111T053500Z
LAST-MODIFIED:20240415T200547Z
UID:840-1716228000-1716235200@southseattlesaddleclub.com
SUMMARY:Board and General Club Meeting
DESCRIPTION:Board/General meetings are held in the South Seattle Saddle Club clubhouse\, the 3rd Monday of each month unless otherwise directed. \nBoard Meeting 6pm | Youth Meeting: 6pm | General Meeting 7pm
URL:https://southseattlesaddleclub.com/event/board-and-general-club-meeting-4/
LOCATION:South Seattle Saddle Club\, 22740 S.E. 228th St.\, Maple Valley\, WA\, 98038\, United States
CATEGORIES:Club Meetings
ATTACH;FMTTYPE=image/jpeg:https://southseattlesaddleclub.com/wp-content/uploads/2024/04/club-meeting.jpg
ORGANIZER;CN="Rich Valdez":MAILTO:southseattlesaddleclub@gmail.com
END:VEVENT
BEGIN:VEVENT
DTSTART;TZID=America/Los_Angeles:20240415T180000
DTEND;TZID=America/Los_Angeles:20240415T200000
DTSTAMP:20260423T152535
CREATED:20240111T053200Z
LAST-MODIFIED:20240415T200424Z
UID:838-1713204000-1713211200@southseattlesaddleclub.com
SUMMARY:Board and General Club Meeting
DESCRIPTION:Board/General meetings are held in the South Seattle Saddle Club clubhouse\, the 3rd Monday of each month unless otherwise directed. \nBoard Meeting 6pm | Youth Meeting: 6pm | General Meeting 7pm
URL:https://southseattlesaddleclub.com/event/board-and-general-club-meeting-3/
LOCATION:South Seattle Saddle Club\, 22740 S.E. 228th St.\, Maple Valley\, WA\, 98038\, United States
CATEGORIES:Club Meetings
ATTACH;FMTTYPE=image/jpeg:https://southseattlesaddleclub.com/wp-content/uploads/2024/04/club-meeting.jpg
ORGANIZER;CN="Rich Valdez":MAILTO:southseattlesaddleclub@gmail.com
END:VEVENT
BEGIN:VEVENT
DTSTART;TZID=UTC:20240318T180000
DTEND;TZID=UTC:20240318T200000
DTSTAMP:20260423T152535
CREATED:20240111T053037Z
LAST-MODIFIED:20240111T053049Z
UID:835-1710784800-1710792000@southseattlesaddleclub.com
SUMMARY:Board and General Club Meeting
DESCRIPTION:Board/General meetings are held at Stockton’s in Maple Valley on the 3rd Monday of each month unless otherwise directed. \nBoard Meeting 6pm | Youth Meeting: 6pm | General Meeting 7pm
URL:https://southseattlesaddleclub.com/event/board-and-general-club-meeting-2/
LOCATION:Stockton’s Maple Valley\, 23220 Maple Valley Black Diamond Road\, Maple Valley\, 98038\, United States
CATEGORIES:Club Meetings
ORGANIZER;CN="Rich Valdez":MAILTO:southseattlesaddleclub@gmail.com
END:VEVENT
BEGIN:VEVENT
DTSTART;TZID=UTC:20240219T180000
DTEND;TZID=UTC:20240219T200000
DTSTAMP:20260423T152535
CREATED:20240111T052933Z
LAST-MODIFIED:20240111T052933Z
UID:833-1708365600-1708372800@southseattlesaddleclub.com
SUMMARY:Board and General Club Meeting
DESCRIPTION:Board/General meetings are held at Stockton’s in Maple Valley on the 3rd Monday of each month unless otherwise directed. \nBoard Meeting 6pm | Youth Meeting: 6pm | General Meeting 7pm \n 
URL:https://southseattlesaddleclub.com/event/board-and-general-club-meeting/
LOCATION:Stockton’s Maple Valley\, 23220 Maple Valley Black Diamond Road\, Maple Valley\, 98038\, United States
CATEGORIES:Club Meetings
ORGANIZER;CN="Rich Valdez":MAILTO:southseattlesaddleclub@gmail.com
END:VEVENT
BEGIN:VEVENT
DTSTART;TZID=UTC:20240122T180000
DTEND;TZID=UTC:20240122T190000
DTSTAMP:20260423T152535
CREATED:20240111T052227Z
LAST-MODIFIED:20240111T052718Z
UID:831-1705946400-1705950000@southseattlesaddleclub.com
SUMMARY:Board Meeting
DESCRIPTION:Board/General meetings are held at Stockton’s in Maple Valley on the 3rd Monday of each month unless otherwise directed. \nBoard Meeting 6pm | Youth Meeting: 6pm | General Meeting 7pm \n**January meeting will be held on 4th Monday and there is no general meeting to follow.
URL:https://southseattlesaddleclub.com/event/board-meeting/
LOCATION:Stockton’s Maple Valley\, 23220 Maple Valley Black Diamond Road\, Maple Valley\, 98038\, United States
CATEGORIES:Club Meetings
ORGANIZER;CN="Rich Valdez":MAILTO:southseattlesaddleclub@gmail.com
END:VEVENT
BEGIN:VEVENT
DTSTART;TZID=UTC:20231016T190000
DTEND;TZID=UTC:20231016T200000
DTSTAMP:20260423T152535
CREATED:20230125T072911Z
LAST-MODIFIED:20231003T020046Z
UID:691-1697482800-1697486400@southseattlesaddleclub.com
SUMMARY:Board/Club Meeting
DESCRIPTION:Board Meeting 6:30pm | Member Meeting 7:00 pm Board meetings happen on the 3rd Monday of every month. New Fall/Winter Meeting location: Stockton’s Restaurant Maple Valley
URL:https://southseattlesaddleclub.com/event/board-club-meeting-7/
LOCATION:Stockton’s Maple Valley\, 23220 Maple Valley Black Diamond Road\, Maple Valley\, 98038\, United States
CATEGORIES:Club Meetings
ORGANIZER;CN="Lyndsey San Sebastian":MAILTO:lyndsey@horseandcoal.com
END:VEVENT
BEGIN:VEVENT
DTSTART;TZID=UTC:20230918T190000
DTEND;TZID=UTC:20230918T200000
DTSTAMP:20260423T152535
CREATED:20230125T072816Z
LAST-MODIFIED:20230712T070108Z
UID:689-1695063600-1695067200@southseattlesaddleclub.com
SUMMARY:Board/Club Meeting
DESCRIPTION:Board Meeting 6:30pm | Member Meeting 7:00 pm Board meetings happen on the 3rd Monday of every month at the South Seattle Saddle Club clubhouse\, unless specified otherwise.
URL:https://southseattlesaddleclub.com/event/board-club-meeting-6/
LOCATION:South Seattle Saddle Club\, 22740 S.E. 228th St.\, Maple Valley\, WA\, 98038\, United States
CATEGORIES:Club Meetings
ORGANIZER;CN="Lyndsey San Sebastian":MAILTO:lyndsey@horseandcoal.com
END:VEVENT
BEGIN:VEVENT
DTSTART;TZID=UTC:20230821T190000
DTEND;TZID=UTC:20230821T200000
DTSTAMP:20260423T152535
CREATED:20230125T072734Z
LAST-MODIFIED:20230712T065900Z
UID:687-1692644400-1692648000@southseattlesaddleclub.com
SUMMARY:Board/Club Meeting
DESCRIPTION:Board Meeting 6:30pm | Member Meeting 7:00 pm Board meetings happen on the 3rd Monday of every month at the South Seattle Saddle Club clubhouse\, unless specified otherwise.
URL:https://southseattlesaddleclub.com/event/board-club-meeting-5/
LOCATION:South Seattle Saddle Club\, 22740 S.E. 228th St.\, Maple Valley\, WA\, 98038\, United States
CATEGORIES:Club Meetings
ORGANIZER;CN="Lyndsey San Sebastian":MAILTO:lyndsey@horseandcoal.com
END:VEVENT
BEGIN:VEVENT
DTSTART;TZID=UTC:20230717T190000
DTEND;TZID=UTC:20230717T200000
DTSTAMP:20260423T152535
CREATED:20230125T072647Z
LAST-MODIFIED:20230712T065651Z
UID:685-1689620400-1689624000@southseattlesaddleclub.com
SUMMARY:Board/Club Meeting
DESCRIPTION:Board Meeting 6:30pm | Member Meeting 7:00 pm Board meetings happen on the 3rd Monday of every month at the South Seattle Saddle Club clubhouse\, unless specified otherwise.
URL:https://southseattlesaddleclub.com/event/club-board-meeting-2/
LOCATION:South Seattle Saddle Club\, 22740 S.E. 228th St.\, Maple Valley\, WA\, 98038\, United States
CATEGORIES:Club Meetings
ORGANIZER;CN="Lyndsey San Sebastian":MAILTO:lyndsey@horseandcoal.com
END:VEVENT
BEGIN:VEVENT
DTSTART;TZID=UTC:20230620T183000
DTEND;TZID=UTC:20230620T193000
DTSTAMP:20260423T152535
CREATED:20230125T072536Z
LAST-MODIFIED:20230417T065304Z
UID:683-1687285800-1687289400@southseattlesaddleclub.com
SUMMARY:Board/Club Meeting
DESCRIPTION:Board Meeting 6:30pm | Member Meeting 7:00 pm Board meetings happen on the 3rd Tuesday of every month at the South Seattle Saddle Club clubhouse\, unless specified otherwise.
URL:https://southseattlesaddleclub.com/event/club-board-meeting/
LOCATION:South Seattle Saddle Club\, 22740 S.E. 228th St.\, Maple Valley\, WA\, 98038\, United States
CATEGORIES:Club Meetings
ORGANIZER;CN="Lyndsey San Sebastian":MAILTO:lyndsey@horseandcoal.com
END:VEVENT
BEGIN:VEVENT
DTSTART;TZID=UTC:20230516T183000
DTEND;TZID=UTC:20230516T193000
DTSTAMP:20260423T152535
CREATED:20230125T072430Z
LAST-MODIFIED:20230417T065340Z
UID:681-1684261800-1684265400@southseattlesaddleclub.com
SUMMARY:Board/Club Meeting
DESCRIPTION:Board Meeting 6:30pm | Member Meeting 7:00 pm Board meetings happen on the 3rd Tuesday of every month at the South Seattle Saddle Club clubhouse\, unless specified otherwise.
URL:https://southseattlesaddleclub.com/event/board-club-meeting-4/
LOCATION:South Seattle Saddle Club\, 22740 S.E. 228th St.\, Maple Valley\, WA\, 98038\, United States
CATEGORIES:Club Meetings
ORGANIZER;CN="Lyndsey San Sebastian":MAILTO:lyndsey@horseandcoal.com
END:VEVENT
BEGIN:VEVENT
DTSTART;TZID=UTC:20230418T183000
DTEND;TZID=UTC:20230418T193000
DTSTAMP:20260423T152535
CREATED:20230125T072253Z
LAST-MODIFIED:20230417T065431Z
UID:679-1681842600-1681846200@southseattlesaddleclub.com
SUMMARY:Board/Club Meeting
DESCRIPTION:Board Meeting 6:30pm | Member Meeting 7:00 pm Board meetings happen on the 3rd Tuesday of every month at the South Seattle Saddle Club clubhouse\, unless specified otherwise.
URL:https://southseattlesaddleclub.com/event/board-club-meeting-3/
LOCATION:South Seattle Saddle Club\, 22740 S.E. 228th St.\, Maple Valley\, WA\, 98038\, United States
CATEGORIES:Club Meetings
ORGANIZER;CN="Lyndsey San Sebastian":MAILTO:lyndsey@horseandcoal.com
END:VEVENT
BEGIN:VEVENT
DTSTART;TZID=UTC:20230321T183000
DTEND;TZID=UTC:20230321T193000
DTSTAMP:20260423T152535
CREATED:20230125T072032Z
LAST-MODIFIED:20230417T065525Z
UID:677-1679423400-1679427000@southseattlesaddleclub.com
SUMMARY:Board/Club Meeting
DESCRIPTION:Board Meeting 6:30pm | Member Meeting 7:00 pm Board meetings happen on the 3rd Tuesday of every month at the South Seattle Saddle Club clubhouse\, unless specified otherwise.
URL:https://southseattlesaddleclub.com/event/board-club-meeting-2/
LOCATION:South Seattle Saddle Club\, 22740 S.E. 228th St.\, Maple Valley\, WA\, 98038\, United States
CATEGORIES:Club Meetings
ORGANIZER;CN="Lyndsey San Sebastian":MAILTO:lyndsey@horseandcoal.com
END:VEVENT
BEGIN:VEVENT
DTSTART;TZID=UTC:20230220T183000
DTEND;TZID=UTC:20230220T193000
DTSTAMP:20260423T152535
CREATED:20230125T071909Z
LAST-MODIFIED:20230125T072321Z
UID:675-1676917800-1676921400@southseattlesaddleclub.com
SUMMARY:Board/Club Meeting
DESCRIPTION:Board Meeting 6:30pm | Member Meeting 7:00 pm \nBoard meetings happen on the 3rd Monday of every month at the South Seattle Saddle Club clubhouse\, unless specified otherwise.
URL:https://southseattlesaddleclub.com/event/board-club-meeting/
LOCATION:South Seattle Saddle Club\, 22740 S.E. 228th St.\, Maple Valley\, WA\, 98038\, United States
CATEGORIES:Club Meetings
ORGANIZER;CN="Lyndsey San Sebastian":MAILTO:lyndsey@horseandcoal.com
END:VEVENT
BEGIN:VEVENT
DTSTART;TZID=UTC:20221219T080000
DTEND;TZID=UTC:20221219T170000
DTSTAMP:20260423T152535
CREATED:20221004T025015Z
LAST-MODIFIED:20221004T025015Z
UID:568-1671436800-1671469200@southseattlesaddleclub.com
SUMMARY:Board and Member Meeting
DESCRIPTION:Board Meeting 6:30pm | Member Meeting 7:00 pm \nBoard meetings happen on the 3rd Monday of every month. Please meet at the South Seattle Saddle Club unless specified otherwise.
URL:https://southseattlesaddleclub.com/event/board-and-member-meeting-3/
LOCATION:South Seattle Saddle Club\, 22740 S.E. 228th St.\, Maple Valley\, WA\, 98038\, United States
CATEGORIES:Club Meetings
ORGANIZER;CN="Lyndsey San Sebastian":MAILTO:lyndsey@horseandcoal.com
END:VEVENT
BEGIN:VEVENT
DTSTART;TZID=UTC:20221121T183000
DTEND;TZID=UTC:20221121T193000
DTSTAMP:20260423T152535
CREATED:20221004T024925Z
LAST-MODIFIED:20221004T025035Z
UID:566-1669055400-1669059000@southseattlesaddleclub.com
SUMMARY:Board and Member Meeting
DESCRIPTION:Board Meeting 6:30pm | Member Meeting 7:00 pm \nBoard meetings happen on the 3rd Monday of every month. Please meet at the South Seattle Saddle Club unless specified otherwise.
URL:https://southseattlesaddleclub.com/event/board-and-member-meeting-2/
LOCATION:South Seattle Saddle Club\, 22740 S.E. 228th St.\, Maple Valley\, WA\, 98038\, United States
CATEGORIES:Club Meetings
ORGANIZER;CN="Lyndsey San Sebastian":MAILTO:lyndsey@horseandcoal.com
END:VEVENT
BEGIN:VEVENT
DTSTART;TZID=UTC:20221017T183000
DTEND;TZID=UTC:20221017T193000
DTSTAMP:20260423T152535
CREATED:20221004T024337Z
LAST-MODIFIED:20221004T025756Z
UID:562-1666031400-1666035000@southseattlesaddleclub.com
SUMMARY:Board and Member Meeting
DESCRIPTION:Board Meeting 6:30pm | Member Meeting 7:00 pm \nBoard meetings happen on the 3rd Monday of every month. Please meet at the South Seattle Saddle Club unless specified otherwise. \n**At this meeting\, we will be electing our official club officers for 2022-2023. We encourage ALL members to attend.**
URL:https://southseattlesaddleclub.com/event/board-and-member-meeting/
LOCATION:South Seattle Saddle Club\, 22740 S.E. 228th St.\, Maple Valley\, WA\, 98038\, United States
CATEGORIES:Club Meetings
ATTACH;FMTTYPE=image/jpeg:https://southseattlesaddleclub.com/wp-content/uploads/2022/10/280263825_10160296587100407_5271517832886917196_n.jpg
ORGANIZER;CN="Lyndsey San Sebastian":MAILTO:lyndsey@horseandcoal.com
END:VEVENT
END:VCALENDAR