BEGIN:VCALENDAR
VERSION:2.0
PRODID:-//South Seattle Saddle Club - ECPv6.15.20//NONSGML v1.0//EN
CALSCALE:GREGORIAN
METHOD:PUBLISH
X-ORIGINAL-URL:https://southseattlesaddleclub.com
X-WR-CALDESC:Events for South Seattle Saddle Club
REFRESH-INTERVAL;VALUE=DURATION:PT1H
X-Robots-Tag:noindex
X-PUBLISHED-TTL:PT1H
BEGIN:VTIMEZONE
TZID:America/Los_Angeles
BEGIN:DAYLIGHT
TZOFFSETFROM:-0800
TZOFFSETTO:-0700
TZNAME:PDT
DTSTART:20230312T100000
END:DAYLIGHT
BEGIN:STANDARD
TZOFFSETFROM:-0700
TZOFFSETTO:-0800
TZNAME:PST
DTSTART:20231105T090000
END:STANDARD
BEGIN:DAYLIGHT
TZOFFSETFROM:-0800
TZOFFSETTO:-0700
TZNAME:PDT
DTSTART:20240310T100000
END:DAYLIGHT
BEGIN:STANDARD
TZOFFSETFROM:-0700
TZOFFSETTO:-0800
TZNAME:PST
DTSTART:20241103T090000
END:STANDARD
BEGIN:DAYLIGHT
TZOFFSETFROM:-0800
TZOFFSETTO:-0700
TZNAME:PDT
DTSTART:20250309T100000
END:DAYLIGHT
BEGIN:STANDARD
TZOFFSETFROM:-0700
TZOFFSETTO:-0800
TZNAME:PST
DTSTART:20251102T090000
END:STANDARD
END:VTIMEZONE
BEGIN:VEVENT
DTSTART;TZID=America/Los_Angeles:20240825T080000
DTEND;TZID=America/Los_Angeles:20240825T170000
DTSTAMP:20260424T181250
CREATED:20240228T063158Z
LAST-MODIFIED:20240821T235909Z
UID:949-1724572800-1724605200@southseattlesaddleclub.com
SUMMARY:Chasing the Sun Barrel Series
DESCRIPTION:**CANCELLED** Unfortunately\, we have to cancel this weekends events due to wet and unsafe riding conditions.  \n 
URL:https://southseattlesaddleclub.com/event/chasing-the-sun-barrel-series-5/
LOCATION:South Seattle Saddle Club\, 22740 S.E. 228th St.\, Maple Valley\, WA\, 98038\, United States
CATEGORIES:Barrel Series
ATTACH;FMTTYPE=image/png:https://southseattlesaddleclub.com/wp-content/uploads/2024/02/Screen-Shot-2024-02-27-at-2.24.16-PM.png
ORGANIZER;CN="Crystal Polzin":MAILTO:cpolzin79@hotmail.com
END:VEVENT
END:VCALENDAR