BEGIN:VCALENDAR
VERSION:2.0
PRODID:-//South Seattle Saddle Club - ECPv6.15.20//NONSGML v1.0//EN
CALSCALE:GREGORIAN
METHOD:PUBLISH
X-WR-CALNAME:South Seattle Saddle Club
X-ORIGINAL-URL:https://southseattlesaddleclub.com
X-WR-CALDESC:Events for South Seattle Saddle Club
REFRESH-INTERVAL;VALUE=DURATION:PT1H
X-Robots-Tag:noindex
X-PUBLISHED-TTL:PT1H
BEGIN:VTIMEZONE
TZID:America/Los_Angeles
BEGIN:DAYLIGHT
TZOFFSETFROM:-0800
TZOFFSETTO:-0700
TZNAME:PDT
DTSTART:20230312T100000
END:DAYLIGHT
BEGIN:STANDARD
TZOFFSETFROM:-0700
TZOFFSETTO:-0800
TZNAME:PST
DTSTART:20231105T090000
END:STANDARD
BEGIN:DAYLIGHT
TZOFFSETFROM:-0800
TZOFFSETTO:-0700
TZNAME:PDT
DTSTART:20240310T100000
END:DAYLIGHT
BEGIN:STANDARD
TZOFFSETFROM:-0700
TZOFFSETTO:-0800
TZNAME:PST
DTSTART:20241103T090000
END:STANDARD
BEGIN:DAYLIGHT
TZOFFSETFROM:-0800
TZOFFSETTO:-0700
TZNAME:PDT
DTSTART:20250309T100000
END:DAYLIGHT
BEGIN:STANDARD
TZOFFSETFROM:-0700
TZOFFSETTO:-0800
TZNAME:PST
DTSTART:20251102T090000
END:STANDARD
END:VTIMEZONE
BEGIN:VEVENT
DTSTART;TZID=America/Los_Angeles:20240727T080000
DTEND;TZID=America/Los_Angeles:20240727T170000
DTSTAMP:20260424T152839
CREATED:20240127T091736Z
LAST-MODIFIED:20240320T201956Z
UID:936-1722067200-1722099600@southseattlesaddleclub.com
SUMMARY:PSHA - SSSC 'Last Chance Weekend' Saturday Show
DESCRIPTION:Join us for South Seattle Saddle Club’s PSHA  July 27-28  ‘Last Chance Weekend’! This is a 2 day event\, so please come and enjoy the grounds and bring your campers. Cook shack will be open for breakfast and lunch. \nGates:\n12pm Friday\n8am Saturday\n8am Sunday \nFees:\n$3.50 per ride\n$6.00 jackpot with 50% payback\nBuckaroos $2.25 per ride \nArena fee $5 per horse.\n*At this time\, we are cash\, check\, or Zelle only. \nPSHA Members:\nBe sure you’ve registered yourself and your horse prior to event. Both numbers are to be provided to judges before each event. \nNot sure if you’ve registered yet?\nVisit the official PSHA website to look up rider and horse numbers\, or to register. \nPro Tip! Write both numbers on your arm! This is especially useful for buckeroos. \nNon-Members:\nNot planning to register with PSHA and just want to ride for fun? No problem. Just sign up at the office as an X-Rider on the day of the event. You will receive a day number to ride the events. Your times will not count towards PSHA finals. \nRace Order\nKeyrace\, Keyhole\, Poles\, Team poles\, Flags\, Team flags\, 2 man 3 barrel\, Team baton\, Bareback relay\, Figure 8\, Cal stake\, 2 man stake\, Barrels\, Rescue race\, Cowhide
URL:https://southseattlesaddleclub.com/event/psha-sssc-last-chance-weekend-saturday-show/
LOCATION:South Seattle Saddle Club\, 22740 S.E. 228th St.\, Maple Valley\, WA\, 98038\, United States
CATEGORIES:PSHA Events
ATTACH;FMTTYPE=image/jpeg:https://southseattlesaddleclub.com/wp-content/uploads/2024/01/psha.jpg
ORGANIZER;CN="Sarah Sutcliffe":MAILTO:sarahrsutcliffe@gmail.com
END:VEVENT
BEGIN:VEVENT
DTSTART;TZID=America/Los_Angeles:20240727T203000
DTEND;TZID=America/Los_Angeles:20240727T223000
DTSTAMP:20260424T152839
CREATED:20240710T001823Z
LAST-MODIFIED:20240710T001823Z
UID:1177-1722112200-1722119400@southseattlesaddleclub.com
SUMMARY:SSSC Kids Club Movie Night
DESCRIPTION:Join our very own South Seattle Saddle Kids Club at dusk following Saturdays PSHA show for a fun\, family movie night! Bring your chairs and blankets to enjoy a featured film selected by the kids and projected on a big screen next to the cook shack. They will be selling popcorn\, snacks and beverages so please bring cash.
URL:https://southseattlesaddleclub.com/event/sssc-kids-club-movie-night/
LOCATION:South Seattle Saddle Club\, 22740 S.E. 228th St.\, Maple Valley\, WA\, 98038\, United States
CATEGORIES:Kids Club,PSHA Events
ATTACH;FMTTYPE=image/png:https://southseattlesaddleclub.com/wp-content/uploads/2024/07/Screen-Shot-2024-07-09-at-5.15.04-PM.png
END:VEVENT
END:VCALENDAR