BEGIN:VCALENDAR
VERSION:2.0
PRODID:-//South Seattle Saddle Club - ECPv6.15.20//NONSGML v1.0//EN
CALSCALE:GREGORIAN
METHOD:PUBLISH
X-ORIGINAL-URL:https://southseattlesaddleclub.com
X-WR-CALDESC:Events for South Seattle Saddle Club
REFRESH-INTERVAL;VALUE=DURATION:PT1H
X-Robots-Tag:noindex
X-PUBLISHED-TTL:PT1H
BEGIN:VTIMEZONE
TZID:America/Los_Angeles
BEGIN:DAYLIGHT
TZOFFSETFROM:-0800
TZOFFSETTO:-0700
TZNAME:PDT
DTSTART:20230312T100000
END:DAYLIGHT
BEGIN:STANDARD
TZOFFSETFROM:-0700
TZOFFSETTO:-0800
TZNAME:PST
DTSTART:20231105T090000
END:STANDARD
BEGIN:DAYLIGHT
TZOFFSETFROM:-0800
TZOFFSETTO:-0700
TZNAME:PDT
DTSTART:20240310T100000
END:DAYLIGHT
BEGIN:STANDARD
TZOFFSETFROM:-0700
TZOFFSETTO:-0800
TZNAME:PST
DTSTART:20241103T090000
END:STANDARD
BEGIN:DAYLIGHT
TZOFFSETFROM:-0800
TZOFFSETTO:-0700
TZNAME:PDT
DTSTART:20250309T100000
END:DAYLIGHT
BEGIN:STANDARD
TZOFFSETFROM:-0700
TZOFFSETTO:-0800
TZNAME:PST
DTSTART:20251102T090000
END:STANDARD
END:VTIMEZONE
BEGIN:VEVENT
DTSTART;TZID=America/Los_Angeles:20240427T090000
DTEND;TZID=America/Los_Angeles:20240427T140000
DTSTAMP:20260424T191427
CREATED:20240228T064521Z
LAST-MODIFIED:20240415T201302Z
UID:957-1714208400-1714226400@southseattlesaddleclub.com
SUMMARY:2024 Opening Season Work Party **Members Required**
DESCRIPTION:All members – mark your calendars! April 27 at 9am we will need all hands on deck to get our grounds ready for another exciting season of fun! \nPlease bring your work gloves\, weed eaters\, pruning sheers\, shovels\, rakes\, buckets\, wheel barrows\, mowers\, hammers… and anything else you think you might need to help us prep the grounds. There is a lot of work to do\, but many hands make quick work! \nClub will provide lunch and beverages. \nHope to see you all there!
URL:https://southseattlesaddleclub.com/event/2024-opening-season-work-party-members-required/
LOCATION:South Seattle Saddle Club\, 22740 S.E. 228th St.\, Maple Valley\, WA\, 98038\, United States
CATEGORIES:Member Work Party
ATTACH;FMTTYPE=image/jpeg:https://southseattlesaddleclub.com/wp-content/uploads/2024/03/spring-cleaning-article.jpg
ORGANIZER;CN="Rich Valdez":MAILTO:southseattlesaddleclub@gmail.com
END:VEVENT
END:VCALENDAR