BEGIN:VCALENDAR
VERSION:2.0
PRODID:-//South Seattle Saddle Club - ECPv6.15.20//NONSGML v1.0//EN
CALSCALE:GREGORIAN
METHOD:PUBLISH
X-WR-CALNAME:South Seattle Saddle Club
X-ORIGINAL-URL:https://southseattlesaddleclub.com
X-WR-CALDESC:Events for South Seattle Saddle Club
REFRESH-INTERVAL;VALUE=DURATION:PT1H
X-Robots-Tag:noindex
X-PUBLISHED-TTL:PT1H
BEGIN:VTIMEZONE
TZID:UTC
BEGIN:STANDARD
TZOFFSETFROM:+0000
TZOFFSETTO:+0000
TZNAME:UTC
DTSTART:20220101T000000
END:STANDARD
END:VTIMEZONE
BEGIN:VEVENT
DTSTART;TZID=UTC:20231021T100000
DTEND;TZID=UTC:20231021T140000
DTSTAMP:20260425T040825
CREATED:20231003T021043Z
LAST-MODIFIED:20231003T021134Z
UID:826-1697882400-1697896800@southseattlesaddleclub.com
SUMMARY:End of Season Work Party / Beef BBQ
DESCRIPTION:Sadly it’s time to close the arena up for the year! We need all hands on deck to tidy everything up and winterize the property. \nPlease bring work gloves\, mowers\, rakes\, leave blowers\, shovels\, pruning sheers and whatever else you thing we might need. \nAnnual Beef BBQ\nAfter the work party we will finish up with full bellies! The club will be providing the protein and non-alcoholic drinks\, you provide the sides. We encourage all members to bring your favorite side dish to share with the club. \nHope to see you all there!
URL:https://southseattlesaddleclub.com/event/end-of-season-work-party-beef-bbq-2/
LOCATION:South Seattle Saddle Club\, 22740 S.E. 228th St.\, Maple Valley\, WA\, 98038\, United States
CATEGORIES:Member Work Party
ATTACH;FMTTYPE=image/png:https://southseattlesaddleclub.com/wp-content/uploads/2023/10/Screen-Shot-2023-10-02-at-12.09.53-PM.png
ORGANIZER;CN="Rich Valdez":MAILTO:southseattlesaddleclub@gmail.com
END:VEVENT
END:VCALENDAR