BEGIN:VCALENDAR
VERSION:2.0
PRODID:-//South Seattle Saddle Club - ECPv6.15.20//NONSGML v1.0//EN
CALSCALE:GREGORIAN
METHOD:PUBLISH
X-WR-CALNAME:South Seattle Saddle Club
X-ORIGINAL-URL:https://southseattlesaddleclub.com
X-WR-CALDESC:Events for South Seattle Saddle Club
REFRESH-INTERVAL;VALUE=DURATION:PT1H
X-Robots-Tag:noindex
X-PUBLISHED-TTL:PT1H
BEGIN:VTIMEZONE
TZID:UTC
BEGIN:STANDARD
TZOFFSETFROM:+0000
TZOFFSETTO:+0000
TZNAME:UTC
DTSTART:20220101T000000
END:STANDARD
END:VTIMEZONE
BEGIN:VEVENT
DTSTART;TZID=UTC:20231007T080000
DTEND;TZID=UTC:20231007T170000
DTSTAMP:20260425T040824
CREATED:20230202T035242Z
LAST-MODIFIED:20231003T015345Z
UID:716-1696665600-1696698000@southseattlesaddleclub.com
SUMMARY:SSSC Play Day "Spooktacular"
DESCRIPTION:The last Play Day of the 2023 Series comes to an end this Saturday – but in a “Spooktacular” way! You will not want to miss this fun Halloween themed event! \n8am Gate\, 10am Start Time \n$35 Individual/$65 Family (members only) | $45 General | $25 Leadline/Beginner \nAll ages:\nBeginner/Leadline (all ages)\nBuckeroo (8 and under)\nJunior (9-13)\nIntermediate (14-17)\nSenior (18-35)\nSuper Senior (36+) \nEvents:\nCorn Maze (Poles)\nGhost Chase (Fig 8)\nSkeleton Key (Key Race)\nPumpkin Patch (Barrels)\nPumpkin Daubing \nWe encourage all riders and spectators to wear costumes! Costume contest (with prizes) at end of day!
URL:https://southseattlesaddleclub.com/event/sssc-play-day-series-5/
LOCATION:South Seattle Saddle Club\, 22740 S.E. 228th St.\, Maple Valley\, WA\, 98038\, United States
CATEGORIES:Play Days
ATTACH;FMTTYPE=image/png:https://southseattlesaddleclub.com/wp-content/uploads/2023/02/Screen-Shot-2023-10-02-at-11.52.12-AM.png
ORGANIZER;CN="Bonnie Valdez":MAILTO:blv9024@gmail.com
END:VEVENT
END:VCALENDAR