BEGIN:VCALENDAR
VERSION:2.0
PRODID:-//South Seattle Saddle Club - ECPv6.15.20//NONSGML v1.0//EN
CALSCALE:GREGORIAN
METHOD:PUBLISH
X-WR-CALNAME:South Seattle Saddle Club
X-ORIGINAL-URL:https://southseattlesaddleclub.com
X-WR-CALDESC:Events for South Seattle Saddle Club
REFRESH-INTERVAL;VALUE=DURATION:PT1H
X-Robots-Tag:noindex
X-PUBLISHED-TTL:PT1H
BEGIN:VTIMEZONE
TZID:UTC
BEGIN:STANDARD
TZOFFSETFROM:+0000
TZOFFSETTO:+0000
TZNAME:UTC
DTSTART:20220101T000000
END:STANDARD
END:VTIMEZONE
BEGIN:VEVENT
DTSTART;TZID=UTC:20230824T160000
DTEND;TZID=UTC:20230824T220000
DTSTAMP:20260425T071452
CREATED:20230417T071214Z
LAST-MODIFIED:20230417T071214Z
UID:774-1692892800-1692914400@southseattlesaddleclub.com
SUMMARY:Chasing the Sun Barrel Series
DESCRIPTION:NWBHA State Qualifier! \nGates: 4pm\, Time-Onlys: 4-5:30pm\, 6pm Start \nPeewee: $20\, Youth/Senior: $25\, Open: $35 \nSeries Award Fee: $20\, Time-Onlys: $5 \n$10 Haul-in/Office fee (non-members) \nDaily Peewee Prizes! Series End Buckles! $100 added/progressive payout
URL:https://southseattlesaddleclub.com/event/chasing-the-sun-barrel-series-3/
LOCATION:South Seattle Saddle Club\, 22740 S.E. 228th St.\, Maple Valley\, WA\, 98038\, United States
CATEGORIES:Barrel Series
ATTACH;FMTTYPE=image/png:https://southseattlesaddleclub.com/wp-content/uploads/2023/04/Screen-Shot-2023-04-16-at-4.59.17-PM.png
ORGANIZER;CN="Lyndsey San Sebastian":MAILTO:lyndsey@horseandcoal.com
END:VEVENT
END:VCALENDAR