BEGIN:VCALENDAR
VERSION:2.0
PRODID:-//South Seattle Saddle Club - ECPv6.15.20//NONSGML v1.0//EN
CALSCALE:GREGORIAN
METHOD:PUBLISH
X-ORIGINAL-URL:https://southseattlesaddleclub.com
X-WR-CALDESC:Events for South Seattle Saddle Club
REFRESH-INTERVAL;VALUE=DURATION:PT1H
X-Robots-Tag:noindex
X-PUBLISHED-TTL:PT1H
BEGIN:VTIMEZONE
TZID:UTC
BEGIN:STANDARD
TZOFFSETFROM:+0000
TZOFFSETTO:+0000
TZNAME:UTC
DTSTART:20220101T000000
END:STANDARD
END:VTIMEZONE
BEGIN:VEVENT
DTSTART;TZID=UTC:20230819T080000
DTEND;TZID=UTC:20230819T170000
DTSTAMP:20260425T071449
CREATED:20230808T023959Z
LAST-MODIFIED:20230808T023959Z
UID:813-1692432000-1692464400@southseattlesaddleclub.com
SUMMARY:NWNHC\, LLC Presents: Pole Barrel Race
DESCRIPTION:Join us August 19\, 2023 in Maple Valley\, Wash. for some amazing fun! It’s your chance to try Pole Barrel Racing and WIN prizes\, ribbons and cash! There’s classes for kids\, adults\, and pros. Pole Barrel Racing is not just about your speed; it’s about your horsemanship and relationship with your partner. \nThere can be up to six different classes in a competition. A minimum of four competitors in any one class is required to award ribbons\, trophies or prize money for that class.\nOpen     Any amateur* of any age\nSenior   Any amateur 50 years and above\nAdult     Any amateur 19 – 49\nTeen      Any amateur 14  – 18\nYouth    Any Amateur 8 – 13\nProfessional  Any adult who is “recognized” as an equine riding instructor/trainer\, who’s primary occupation is as an instructor/trainer\, who competes professionally in equine sports or is a sponsored competitor. \n*An amateur is any person who enjoys equine activities and sports for the love of the experience and is not compensated as an equine instructor/trainer. \n$25 kids / $30 adults \n \nLearn more here
URL:https://southseattlesaddleclub.com/event/nwnhc-presents-pole-barrel-race/
LOCATION:South Seattle Saddle Club\, 22740 S.E. 228th St.\, Maple Valley\, WA\, 98038\, United States
CATEGORIES:Rental Events
ATTACH;FMTTYPE=image/png:https://southseattlesaddleclub.com/wp-content/uploads/2023/08/Screen-Shot-2023-08-07-at-12.24.34-PM.png
END:VEVENT
END:VCALENDAR