BEGIN:VCALENDAR
VERSION:2.0
PRODID:-//South Seattle Saddle Club - ECPv6.15.20//NONSGML v1.0//EN
CALSCALE:GREGORIAN
METHOD:PUBLISH
X-ORIGINAL-URL:https://southseattlesaddleclub.com
X-WR-CALDESC:Events for South Seattle Saddle Club
REFRESH-INTERVAL;VALUE=DURATION:PT1H
X-Robots-Tag:noindex
X-PUBLISHED-TTL:PT1H
BEGIN:VTIMEZONE
TZID:UTC
BEGIN:STANDARD
TZOFFSETFROM:+0000
TZOFFSETTO:+0000
TZNAME:UTC
DTSTART:20220101T000000
END:STANDARD
END:VTIMEZONE
BEGIN:VEVENT
DTSTART;TZID=UTC:20230709T080000
DTEND;TZID=UTC:20230709T170000
DTSTAMP:20260425T085442
CREATED:20230531T014211Z
LAST-MODIFIED:20230531T014211Z
UID:788-1688889600-1688922000@southseattlesaddleclub.com
SUMMARY:SSSC - PSHA Show
DESCRIPTION:Join us for South Seattle Saddle Club’s PSHA July 8-9\, weekend shows! This is a 2 day event\, so please come and enjoy the grounds and bring your campers. Cook shack will be open for breakfast and lunch. \n*At this time\, we are cash or check only. \n  \nKnow before you go!\nBe sure you’ve registered yourself and your horse prior to event. Both numbers are to be provided to judges before each event. \nNot sure if you’ve registered yet?\nVisit the official PSHA website to look up rider and horse numbers\, or to register. \nPro Tip! Write both numbers on your arm! This is especially useful for buckeroos. \n  \nEvents\nKeyrace\, Keyhole\, Pole bending\, team pole bending\, flags\, team flags\, 2 Man 3 Barrel\, Tea Baton\, Bareback Relay\, Fig 8\, Cal Stake\, Barrels\, Rescue Race\, Cowhide
URL:https://southseattlesaddleclub.com/event/sssc-psha-show-5/
LOCATION:South Seattle Saddle Club\, 22740 S.E. 228th St.\, Maple Valley\, WA\, 98038\, United States
CATEGORIES:PSHA Events
ATTACH;FMTTYPE=image/jpeg:https://southseattlesaddleclub.com/wp-content/uploads/2022/06/playdate2.jpg
ORGANIZER;CN="Jackie Little":MAILTO:littlesrc66@outlook.com
END:VEVENT
END:VCALENDAR